BEGIN:VCALENDAR
VERSION:2.0
PRODID:-//Decentralization Net - ECPv6.15.20//NONSGML v1.0//EN
CALSCALE:GREGORIAN
METHOD:PUBLISH
X-WR-CALNAME:Decentralization Net
X-ORIGINAL-URL:https://decentralization.net
X-WR-CALDESC:Events for Decentralization Net
REFRESH-INTERVAL;VALUE=DURATION:PT1H
X-Robots-Tag:noindex
X-PUBLISHED-TTL:PT1H
BEGIN:VTIMEZONE
TZID:America/New_York
BEGIN:DAYLIGHT
TZOFFSETFROM:-0500
TZOFFSETTO:-0400
TZNAME:EDT
DTSTART:20250309T070000
END:DAYLIGHT
BEGIN:STANDARD
TZOFFSETFROM:-0400
TZOFFSETTO:-0500
TZNAME:EST
DTSTART:20251102T060000
END:STANDARD
BEGIN:DAYLIGHT
TZOFFSETFROM:-0500
TZOFFSETTO:-0400
TZNAME:EDT
DTSTART:20260308T070000
END:DAYLIGHT
BEGIN:STANDARD
TZOFFSETFROM:-0400
TZOFFSETTO:-0500
TZNAME:EST
DTSTART:20261101T060000
END:STANDARD
BEGIN:DAYLIGHT
TZOFFSETFROM:-0500
TZOFFSETTO:-0400
TZNAME:EDT
DTSTART:20270314T070000
END:DAYLIGHT
BEGIN:STANDARD
TZOFFSETFROM:-0400
TZOFFSETTO:-0500
TZNAME:EST
DTSTART:20271107T060000
END:STANDARD
END:VTIMEZONE
BEGIN:VEVENT
DTSTART;VALUE=DATE:20261116
DTEND;VALUE=DATE:20261128
DTSTAMP:20260423T152231
CREATED:20251103T140509Z
LAST-MODIFIED:20251103T140556Z
UID:8430-1794787200-1795823999@decentralization.net
SUMMARY:Digital Transformation in the Public Sector
DESCRIPTION:How can digitalisation improve public service delivery\, government efficiency and transparency? How to lead digital transformation processes in complex institutional environments? And how to use AI and data platforms while safeguarding privacy and security? \nLearn more about these questions in our upcoming course on Digital Transformation in the Public Sector in The Hague. \nThanks to contributions by high level\, international experts such as Tamas Erkelens\, Dara Sherwani and Vincent Lau\, and visiting best practices in a.o. the City of Amsterdam and the Technical University of Delft\, participants will be able to: \n\nConduct a digital maturity assessment and identify priority areas for development and improvement\nDesign digital services that are inclusive\, accessible and responsive to diverse community needs\nIntegrate data-driven decision-making into pulic policy and services\nApply change management approaches to lead digital reform processes\nStrengthen cybersecurity frameworks and ensure data privacy compliance\, including practical responses to emerging digital threats\nPromote open government using open data for transparency and engagement\nAnalyse ethical and legal aspects of AI and identify success factors for its effective and responsible integration in the public sector\n\nInterested? Find more information about the content\, application process and group discounts on our website. \nWe offer a 50% reduction of the course fee for practitioners from local authorities and local NGOs from countries on the OECD DAC-list. \nShould you know other persons in your organisation or network who may be interested in this course\, please feel free to forward this email. \nFor general inquiries\, please contact info@thehagueacademy.com or call +(31) 70 37 38 695
URL:https://decentralization.net/event/digital-transformation-in-the-public-sector/
LOCATION:The Hague Academy for Local Governance\, Nassaulaan 12\, The Hague\, 2500 GK\, Netherlands
CATEGORIES:Training
ATTACH;FMTTYPE=image/png:https://decentralization.net/wp-content/uploads/2025/11/Digital-Banner-narrow-2026.png
ORGANIZER;CN="The Hague Academy for Local Governance":MAILTO:info@thehagueacademy.com
END:VEVENT
BEGIN:VEVENT
DTSTART;TZID=America/New_York:20261125T100000
DTEND;TZID=America/New_York:20261125T113000
DTSTAMP:20260423T152231
CREATED:20251212T040641Z
LAST-MODIFIED:20251212T040641Z
UID:8525-1795600800-1795606200@decentralization.net
SUMMARY:Europe & Central Asia Regional Working Group Meeting – November 2026
DESCRIPTION:LPSA’s Regional Working Group on Europe & Central Asia (ECA) aims to bring together government officials\, policy practitioners\, scholars\, civil society organizations\, and citizens who share an interest and expertise on decentralization\, multilevel governance\, intergovernmental relations\, local governance and local development in ECA. \nThe next meeting organized by the ECA Regional Working Group is scheduled to take place on 25 November\, 2026 (10:00 AM NYC\, 3:00 PM UK\, 4:00 PM CET\, 8:00 PM UZT). Registration for this meeting is required. \nRegister Here!  \n—– \nTopic: Climate change adaptation and mitigation: specific budgeting tools and fiscal instruments at local level
URL:https://decentralization.net/event/europe-central-asia-regional-working-group-meeting-november-2026/
LOCATION:Virtual Event (Online)
ATTACH;FMTTYPE=image/png:https://decentralization.net/wp-content/uploads/2025/11/ECA.png
END:VEVENT
END:VCALENDAR