BEGIN:VCALENDAR
VERSION:2.0
PRODID:-//Decentralization Net - ECPv6.15.20//NONSGML v1.0//EN
CALSCALE:GREGORIAN
METHOD:PUBLISH
X-ORIGINAL-URL:https://decentralization.net
X-WR-CALDESC:Events for Decentralization Net
REFRESH-INTERVAL;VALUE=DURATION:PT1H
X-Robots-Tag:noindex
X-PUBLISHED-TTL:PT1H
BEGIN:VTIMEZONE
TZID:Asia/Bangkok
BEGIN:STANDARD
TZOFFSETFROM:+0700
TZOFFSETTO:+0700
TZNAME:+07
DTSTART:20250101T000000
END:STANDARD
END:VTIMEZONE
BEGIN:VEVENT
DTSTART;TZID=Asia/Bangkok:20260429T140000
DTEND;TZID=Asia/Bangkok:20260429T151500
DTSTAMP:20260423T071951
CREATED:20251201T022949Z
LAST-MODIFIED:20260408T104514Z
UID:8476-1777471200-1777475700@decentralization.net
SUMMARY:Asia Regional Working Group Meeting – April 2026
DESCRIPTION:LPSA’s Regional Working Group on Asia brings together government officials\, policy practitioners\, scholars\, civil society organizations\, and citizens with a shared interest in decentralization\, multilevel governance\, intergovernmental relations\, and local development across the region. \nAs part of its ongoing knowledge exchange series\, LPSA joins as a knowledge partner to a webinar jointly organized by the Asian Development Bank (ADB) and the United Nations Development Programme (UNDP)\, focusing on the implementation of Social Innovation Platforms (SIP) across cities. \nDate: Wednesday\, 29 April 2026Time: 2:00–3:15 PM (GMT+7 / Bangkok time)\nTopic: Leveraging Social Innovation Platforms for Inclusive and Sustainable Local Development\nVenue: Zoom Webinar \nRegistration for this meeting is required. \nREGISTER HERE \nThe webinar will bring together cities that are actively applying the SIP approach within their local contexts\, offering grounded insights into how social innovation is reshaping local development practices. \nDesigned as an open space for peer exchange\, the session will connect SIP cities with government partners and practitioners interested in advancing new approaches to local development. The discussion aims to spark reflection on existing practices and inspire cities to explore how social innovation and systems thinking can support more inclusive\, sustainable\, and future-ready solutions.
URL:https://decentralization.net/event/asia-regional-working-group-meeting-march-2026/
LOCATION:Virtual Event (Online)
CATEGORIES:Meeting
ATTACH;FMTTYPE=image/jpeg:https://decentralization.net/wp-content/uploads/2025/11/Asia-Working-Group.jpg
END:VEVENT
END:VCALENDAR