BEGIN:VCALENDAR
VERSION:2.0
PRODID:-//Decentralization Net - ECPv6.15.20//NONSGML v1.0//EN
CALSCALE:GREGORIAN
METHOD:PUBLISH
X-ORIGINAL-URL:https://decentralization.net
X-WR-CALDESC:Events for Decentralization Net
REFRESH-INTERVAL;VALUE=DURATION:PT1H
X-Robots-Tag:noindex
X-PUBLISHED-TTL:PT1H
BEGIN:VTIMEZONE
TZID:America/New_York
BEGIN:DAYLIGHT
TZOFFSETFROM:-0500
TZOFFSETTO:-0400
TZNAME:EDT
DTSTART:20250309T070000
END:DAYLIGHT
BEGIN:STANDARD
TZOFFSETFROM:-0400
TZOFFSETTO:-0500
TZNAME:EST
DTSTART:20251102T060000
END:STANDARD
BEGIN:DAYLIGHT
TZOFFSETFROM:-0500
TZOFFSETTO:-0400
TZNAME:EDT
DTSTART:20260308T070000
END:DAYLIGHT
BEGIN:STANDARD
TZOFFSETFROM:-0400
TZOFFSETTO:-0500
TZNAME:EST
DTSTART:20261101T060000
END:STANDARD
BEGIN:DAYLIGHT
TZOFFSETFROM:-0500
TZOFFSETTO:-0400
TZNAME:EDT
DTSTART:20270314T070000
END:DAYLIGHT
BEGIN:STANDARD
TZOFFSETFROM:-0400
TZOFFSETTO:-0500
TZNAME:EST
DTSTART:20271107T060000
END:STANDARD
END:VTIMEZONE
BEGIN:VEVENT
DTSTART;VALUE=DATE:20260323
DTEND;VALUE=DATE:20260404
DTSTAMP:20260421T125949
CREATED:20251103T133655Z
LAST-MODIFIED:20251103T133901Z
UID:8418-1774224000-1775260799@decentralization.net
SUMMARY:Citizen Participation and Inclusive Governance Course
DESCRIPTION:How can governments involve citizens more in policy and decision making? How can they ensure that voices of women\, youth and vulnerable groups are included? And how can citizens be empowered to hold their governments accountable? \nLearn more about these questions in our upcoming course on Citizen Participation and Inclusive Governance from 23 March to 3 April in The Hague. In this course\, you will: \n\n\nDiscuss basic concepts of participatory policy making\, including government-citizen relationships and the participation ladder\nLearn about strategies and practical tools to reach out to diverse groups in the community\, including women\, youth\, and persons with a disability.\nDiscuss best practices and lessons learned of participatory budgeting\, citizen assemblies and placemaking\nExplore how information technologies can ensure greater accountability and transparency within government and facilitate meaningful participation.\n\nInterested? Find more information about the content\, application process and group discounts on the website. \nWe offer a 50% reduction of the course fee for practitioners from local authorities and local NGOs from countries on the OECD DAC-list. \nShould you know other persons in your organisation or network who may be interested in this course\, please feel free to forward this email. \nFor general inquiries\, please contact info@thehagueacademy.com or call +(31) 70 37 38 695
URL:https://decentralization.net/event/citizen-participation-and-inclusive-governance-course-2/
LOCATION:The Hague Academy for Local Governance\, Nassaulaan 12\, The Hague\, 2500 GK\, Netherlands
CATEGORIES:Training
ATTACH;FMTTYPE=image/png:https://decentralization.net/wp-content/uploads/2025/11/OT-Citizen-participation-2026-banner.png
ORGANIZER;CN="The Hague Academy for Local Governance":MAILTO:info@thehagueacademy.com
END:VEVENT
END:VCALENDAR