BEGIN:VCALENDAR
VERSION:2.0
PRODID:-//Decentralization Net - ECPv6.15.20//NONSGML v1.0//EN
CALSCALE:GREGORIAN
METHOD:PUBLISH
X-WR-CALNAME:Decentralization Net
X-ORIGINAL-URL:https://decentralization.net
X-WR-CALDESC:Events for Decentralization Net
REFRESH-INTERVAL;VALUE=DURATION:PT1H
X-Robots-Tag:noindex
X-PUBLISHED-TTL:PT1H
BEGIN:VTIMEZONE
TZID:America/New_York
BEGIN:DAYLIGHT
TZOFFSETFROM:-0500
TZOFFSETTO:-0400
TZNAME:EDT
DTSTART:20240310T070000
END:DAYLIGHT
BEGIN:STANDARD
TZOFFSETFROM:-0400
TZOFFSETTO:-0500
TZNAME:EST
DTSTART:20241103T060000
END:STANDARD
BEGIN:DAYLIGHT
TZOFFSETFROM:-0500
TZOFFSETTO:-0400
TZNAME:EDT
DTSTART:20250309T070000
END:DAYLIGHT
BEGIN:STANDARD
TZOFFSETFROM:-0400
TZOFFSETTO:-0500
TZNAME:EST
DTSTART:20251102T060000
END:STANDARD
BEGIN:DAYLIGHT
TZOFFSETFROM:-0500
TZOFFSETTO:-0400
TZNAME:EDT
DTSTART:20260308T070000
END:DAYLIGHT
BEGIN:STANDARD
TZOFFSETFROM:-0400
TZOFFSETTO:-0500
TZNAME:EST
DTSTART:20261101T060000
END:STANDARD
END:VTIMEZONE
BEGIN:VEVENT
DTSTART;TZID=America/New_York:20251211T140000
DTEND;TZID=America/New_York:20251211T170000
DTSTAMP:20260421T141611
CREATED:20250223T193318Z
LAST-MODIFIED:20251121T211917Z
UID:7698-1765461600-1765472400@decentralization.net
SUMMARY:LPSA Expert Working Group on Sub-Saharan Africa – Open Meeting – December 2025
DESCRIPTION:LPSA’s Expert Working Group (EWG) on Sub-Saharan Africa (SSA) aims to bring together government officials\, policy practitioners\, scholars\, civil society organizations\, and citizens who share an interest and expertise on decentralization\, multilevel governance\, intergovernmental relations\, local governance and local development in Sub-Saharan Africa.  \nThe next public meeting of the SSA Expert Working Group is scheduled to take place on Dec 11 2025 [12:00 PM WAT/1:00 PM SAST/2:00 PM EAT] Registration for this meeting is required.  \n Register Here!  \nWe need your help to make this meeting a success: If you have any updates about decentralization or local governance reforms in your country; updates about new research; or information about local government projects that you would like mentioned during the open meeting\, please email the Working Group co-chairs at africa@decentralization.net so that a brief announcement can be made at the beginning of the meeting.  \nReminder: You can join any LPSA Expert Working Group free of cost and receive reminders and updates by opting-in to one or more working groups as part of your LPSA Membership registration.
URL:https://decentralization.net/event/lpsa-expert-working-group-on-sub-saharan-africa-open-meeting-december-2025/
CATEGORIES:Meeting
ATTACH;FMTTYPE=image/jpeg:https://decentralization.net/wp-content/uploads/2025/02/LPSA-Webinar-Template-Sub-Saharan-Africa-images-1-scaled-e1763742878135.jpg
END:VEVENT
END:VCALENDAR