Workbook

Sheet IGP1 Structure
D2: LoGICA INTERGOVERNMENTAL PROFILE: STRUCTURE OF SUBNATIONAL GOVERNANCE INSTITUTIONS
D5: General Country Information | L5: Comments / Clarification
C6: C1 | D6: Basic Country Information
C7: C1.1 | D7: Country Name | E7: Papua New Guinea (PNG)
C8: C1.2 | D8: Information/Data for Year | E8: 2026
C9: C1.3 | D9: Total National Population | E9: 10185363 | L9: 2024 Census (see: https://www.nso.gov.pg/statistics/population)
C11: C.4 | D11: Main decentralization / subnational / intergovernmental legislation /policies | F11: Year Enacted
C12: C4.1 | D12: Organic Law on Provincial Governments and Local Level Governments | F12: 1995
C13: C4.2 | D13: Intergovernmental Relations (Functions and Funding) Act | F13: 2009
C14: C4.3 | D14: District Development Authority Act | F14: 2014
C15: C4.4
D19: Level / tier / type | E19: Institutional level/tier/type (name) | F19: Number of units | G19: Complete territorial coverage? | H19: Uniform structure ? | I19: Subnational Governance Level / Tier / Type | J19: ="Population of "&CHAR(10)&"level / tier / type" -> Population of level / tier / type | L19: Comments / Clarification
O20: …
C21: C | D21: National level | E21: National government | F21: 1 | J21: =E9 -> 10185363 | N21: 1 | O21: 1-Main Regional | P21: main level/tier/type of regional governance institutions | S21: =E21 -> National government | T21: =F21 -> 1 | U21: =$J$21/T21 -> 10185363
C22: S1 | D22: First level / tier / type | E22: Provinces (20); AGB (1) & NCD (1) | F22: 22 | G22: Yes | H22: No | I22: 1-Main Regional | J22: =J21 -> 10185363 | L22: Bougainville and the National Capital District are governed by different laws. | N22: 2 | O22: 2-Main Local | P22: main level/tier/type of local governance institutions | Q22: =IF(F22>2,"YES","NO") -> YES | R22: =LEFT(I22,1) -> 1 | S22: =E22 -> Provinces (20); AGB (1) & NCD (1) | T22: =F22 -> 22 | U22: =IF(J22>0,J22/T22,$J$21/T22) -> 462971.05
C23: S2 | D23: Second level / tier / type | E23: Districts | F23: 96 | G23: Yes | H23: Yes | I23: 2-Main Local | J23: =J21 -> 10185363 | N23: 3 | O23: 3-Lower Local | P23: level/tier/type of lower-level local governance institutions | Q23: =IF(F23>2,"YES","NO") -> YES | R23: =LEFT(I23,1) -> 2 | S23: =E23 -> Districts | T23: =F23 -> 96 | U23: =IF(J23>0,J23/T23,$J$21/T23) -> 106097.53
C24: S3 | D24: Third level / tier / type | E24: Local Level / Community Governments | F24: =371+47 -> 418 | G24: No | H24: No | I24: 3-Lower Local | J24: 9428609 | L24: The 20 Provinces contain 371 LLGs (source: https://www.treasury.gov.pg/wp-content/uploads/2025/11/eVolume-1-2026-.pdf), reported numbers fluctuate slightly. Bougainville previously had 12 LLGs but have been replaced by 47 Community Governments. The National Capital District does not have LLGs. See: https://devpolicy.org/shining-a-light-on-local-level-government-in-png-20250612/ | N24: 4 | O24: 4-Urban | P24: level/tier/type of urban local governance institutions | Q24: =IF(F24>2,"YES","NO") -> YES | R24: =LEFT(I24,1) -> 3 | S24: =E24 -> Local Level / Community Governments | T24: =F24 -> 418 | U24: =IF(J24>0,J24/T24,$J$21/T24) -> 22556.481
C25: S4 | D25: Fourth level / tier / type | N25: 5 | O25: 5-Other Regional | P25: other level/tier/type of regional governance institutions | Q25: =IF(F25>2,"YES","NO") -> NO | R25: =LEFT(I25,1) | S25: =E25 -> 0 | T25: =F25 -> 0 | U25: =IF(J25>0,J25/T25,$J$21/T25) -> #DIV/0!
N26: 6 | O26: 6-Other Local | P26: other level/tier/type of local governance institutions | Q26: =COUNTIF(Q22:Q25,"YES") -> 3
C28: LoGICA Intergovernmental Profile - Version 2023-12-28
D29: [Country Name] | E29: … | F29: …
D30: Afghanistan (AFG) | E30: Afghanistan | F30: AFG
D31: Albania (ALB) | E31: Albania | F31: ALB
D32: Algeria (DZA) | E32: Algeria | F32: DZA
D33: Angola (AGO) | E33: Angola | F33: AGO
D34: Argentina (ARG) | E34: Argentina | F34: ARG
D35: Armenia (ARM) | E35: Armenia | F35: ARM
D36: Australia (AUS) | E36: Australia | F36: AUS
D37: Austria (AUT) | E37: Austria | F37: AUT
D38: Azerbaijan (AZE) | E38: Azerbaijan | F38: AZE
D39: Bahamas (BHS) | E39: Bahamas | F39: BHS
D40: Bahrain (BHR) | E40: Bahrain | F40: BHR
... D203: Zimbabwe (ZWE) | E203: Zimbabwe | F203: ZWE
D204: =E7 -> Papua New Guinea (PNG) | E204: =VLOOKUP(D204,$D$29:$F$203,2,FALSE) -> Papua New Guinea | F204: =VLOOKUP(D204,$D$29:$F$203,3,FALSE) -> PNG

Sheet IGP2 Governance
D2: LoGICA INTERGOVERNMENTAL PROFILE: NATURE OF SUBNATIONAL GOVERNANCE INSTITUTIONS
D5: Government level / tier / type | E5: ='IGP1 Structure'!$E$22 -> Provinces (20); AGB (1) & NCD (1) | F5: ='IGP1 Structure'!$E$23 -> Districts | G5: ='IGP1 Structure'!$E$24 -> Local Level / Community Governments | H5: ='IGP1 Structure'!$E$25 -> 0 | J5: ="Comments / Clarification: "&CHAR(10)&E5 -> Comments / Clarification: Provinces (20); AGB (1) & NCD (1) | K5: ="Comments / Clarification: "&CHAR(10)&F5 -> Comments / Clarification: Districts | L5: ="Comments / Clarification: "&CHAR(10)&G5 -> Comments / Clarification: Local Level / Community Governments | M5: ="Comments / Clarification: "&CHAR(10)&H5 -> Comments / Clarification: 0
C7: G1 | D7: Institutional characteristics, autonomy and authority
C8: G1.1A | D8: Are subnational entities at this level/tier/type de jure corporate bodies (institutional units)? | E8: Yes | F8: No | G8: Yes | O8: … | P8: Yes | Q8: No | R8: Partially/Mixed/Other
C9: G1.1B | D9: Do subnational entities at this level/tier/type engage in public sector functions? | E9: Yes | F9: Yes | G9: Yes | O9: … | P9: Yes | Q9: No | R9: Partially/Mixed/Other
C10: G1.2 | D10: Do subnational entities at this level/tier/type meet the preconditions of de facto corporate bodies? | E10: Yes | F10: No | G10: No | K10: Districts are not permitted to pass legislation or raise revenue. | O10: … | P10: Yes | Q10: No | R10: Partially/Mixed/Other
C11: G1.3 | D11: Are subnational institutions de jure and de facto corporate bodies with extensive (de jure/de facto) functions? | E11: No | F11: No | G11: No | L11: Local Level Governments cannot pass legislation. | O11: … | P11: Yes | Q11: No | R11: Partially/Mixed/Other
C13: G2 | D13: Political characteristics, autonomy and authority
C14: G2.1A | D14: Do subnational entities at this level/tier/type have their own (political/elected) leadership? | E14: Yes | F14: No | G14: Yes | J14: In the form of an elected Governor (other members of provincial assemblies are district MPs with a national mandate). | K14: Although directly elected by voters in the district/open electorate and deeply involved in district development, the MP's institutional role is as a member of the National Parliament, not as the political leader of a district government. | O14: … | P14: Yes | Q14: No | R14: Partially/Mixed/Other
C15: G2.1B | D15: Does the political leadership have a degree of autonomy and authoritative decision-making power? | E15: Yes | F15: No | G15: Yes | L15: Elected LLG political leadership (local council) exercises statutory law-making, planning and local-government functions. | O15: … | P15: Yes | Q15: No | R15: Partially/Mixed/Other
C16: G2.2A | D16: Is the subnational political leadership, at least in part, (directly or indirectly) elected? | E16: Yes | F16: No | G16: Yes | O16: … | P16: Yes | Q16: No | R16: Partially/Mixed/Other
C17: G2.2B | D17: Do subnational entities have (de jure / de facto) autonomy and authoritative power over political decisions? | E17: No | F17: No | G17: No | J17: Provincial Governors exercise meaningful political decision-making authority within their assigned sphere, including policy, planning, budgeting and provincial law-making. However, provincial political autonomy is materially constrained by national-level political influence embedded in Provincial Assemblies: District MPs derive their mandates from National Parliament elections, but also sit as voting members of Provincial Assemblies. This gives national legislators direct influence over provincial decisions. In practice, District MPs also control parallel resource channels through DDAs and DSIPs, which can compete with province-wide priorities and weaken the Governor’s authority to coordinate provincial development. Furthermore, section 141 of the Organic Law requires national ministerial approval for provincial laws to take effect, creating a formal higher-level constraint on provincial legislative autonomy. | L17: LLG political decisions operate within a system in which higher-level governments retain overwhelming authority over the legal, administrative and fiscal environment in which those decisions are made and implemented. | O17: … | P17: Yes | Q17: No | R17: Partially/Mixed/Other
C18: G2.3A | D18: Is the subnational political leadership (at least in part) directly elected? | E18: Yes | F18: No | G18: Yes | L18: LLG executive (Mayor/President) is indiretcly elected by ward councillors who have been elected directly. | O18: … | P18: Yes | Q18: No | R18: Partially/Mixed/Other
C19: G2.3B | D19: Do subnational entities have extensive autonomy and authoritative power over political decisions? | E19: No | F19: No | G19: No | J19: Bougainville: Yes | O19: … | P19: Yes | Q19: No | R19: Partially/Mixed/Other
C21: G3 | D21: Administrative characteristics, autonomy and authority
C22: G3.1 | D22: Do subnational entities at this level/tier/type have (employ) their own officers? | E22: Yes | F22: No | G22: No | J22: The Provincial Administrator (PA) is is a part of the national public service and assigned to the Province to manage provincial administration. The resources used to pay the salary of the PA id derives from a nationally funded staffing grant (IGFT) which forms part of the provincial resource envelope and flows through the provincial treasury. | K22: The DA salary is included in the Provincial budget | L22: In practice, LLGs have only one employed officer (the LLG Manager) appointed by the Province. Local government staff are formal members of the national public service. | O22: … | P22: Yes | Q22: No | R22: Partially/Mixed/Other
C23: G3.2A | D23: Do subnational entities have, and authoritatively manage, their CEO and most/all of their own officers? | E23: No | F23: No | G23: No | J23: Following recent legal reforms (Amendment No. 15 to the Organic Law on Provincial and Local Level Government, effective February 2026), the authority to appoint provincial administrators shifted from the National Executive Council (NEC) directly to provincial governments, with the PEC selecting a candidate from a shortlist of three names provided by the Public Services Commission (PSC). Previously, the PA (CEO) was hired centrally (by the Department of Personnel Management) . DoPM retains powers in selection, promotion and termination. Many PAs (and their appointment process) appear politicized. Most sectoral leads are "deconcentrated" officials with only a "dotted line" to the CEO. | K23: District CEOs are hired centrally (by the DoPM). | L23: The District Administrator is legally the CEO of LLGs. | O23: … | P23: Yes | Q23: No | R23: Partially/Mixed/Other
C24: G3.2B | D24: Do subnational entities have, and authoritatively manage, their own staff? | E24: No | F24: No | G24: No | J24: Provincial staff are often/usually national public servants assigned/mapped to the province and subject to national rules. | K24: District CEOs report to both the PA and the DDA Board. | L24: Most staff (where they exist) are deconcentrated officials from the Province. | O24: … | P24: Yes | Q24: No | R24: Partially/Mixed/Other
C25: G3.2C | D25: Do subnational entities have (de jure / de facto) autonomy and authoritative power over admin. decisions? | E25: No | F25: No | G25: No | J25: Dual subordination: the PA is responsible for overseeing all provincial level officers and staff, but in practice the majority are deconcentrated/seconded national officers and staff performing national-government and provincial/LLG functions, with a strong de facto reporting line to national departments which retain roles in policy formulation, standards and delivery. | K25: The DoPM has the power to hire and fire. | L25: LLGs do not have the power to hire and fire officers or staff. | O25: … | P25: Yes | Q25: No | R25: Partially/Mixed/Other
C26: G3.3A | D26: Do subnational entities have, select, and authoritatively manage, their CEO and all of their own officers? | E26: No | F26: No | G26: No | O26: … | P26: Yes | Q26: No | R26: Partially/Mixed/Other
C27: G3.3B | D27: Do subnational entities have, select, and authoritatively manage, their own staff? | E27: No | F27: No | G27: No | O27: … | P27: Yes | Q27: No | R27: Partially/Mixed/Other
C28: G3.3C | D28: Do subnational entities have extensive autonomy and authoritative power over admin. decisions? | E28: No | F28: No | G28: No | J28: Bougainville: Yes (AGB has its own public service separate from the national public service and can appoint/manage their own officers and staff under their own administrative structure) | O28: … | P28: Yes | Q28: No | R28: Partially/Mixed/Other
C30: G4 | D30: Fiscal/budgetary characteristics, autonomy and authority
C31: G4.1A | D31: Do subnational entities at this level/tier/type own assets and raise funds in own name? | E31: Yes | F31: No | G31: Yes | J31: E.g. Provinces case raise OSR | L31: LLGs are legally empowered to collected OSR (e.g. business licenses) and have their own Public Account. In practice, outside urban LLGs, actual collection is limited. | O31: … | P31: Yes | Q31: No | R31: Partially/Mixed/Other
C32: G4.1B | D32: Do subnational entities at this level/tier/type have their own budget? | E32: Yes | F32: No | G32: Yes | O32: … | P32: Yes | Q32: No | R32: Partially/Mixed/Other
C33: G4.1C | D33: Do subnational entities at this level/tier/type prepare and adopt their own budgets? | E33: Yes | F33: No | G33: Yes | J33: Provinces & NCD: Provincial governments prepare and approve their own budgets, but the adopted provincial appropriation is subsequently subject to national Treasury/Finance Minister review and approval, and this approval is actually exercised in practice. | L33: LLGs have an role in considering and adopting their budgets through the LLG Council (but this occurs after the District has determined budget priorities and approved the LLG budget for presentation to the LLG). | O33: … | P33: Yes | Q33: No | R33: Partially/Mixed/Other
C34: G4.2A | D34: Do subnational entities hold and manage their own funds outside of the higher-level treasury? | E34: Yes | F34: No | G34: No | J34: See for details: https://www.finance.gov.pg/wp-content/uploads/2026/04/FMM-02-10-Sub-National-Financial-Arrangements.pdf | L34: Each LLG has its own Public Account consisting of a General Revenue Fund and Trust Fund. However, in practice, the Provincial/District Finance offices actually perform the accounting and transaction-processing function for LLGs | O34: … | P34: Yes | Q34: No | R34: Partially/Mixed/Other
C35: G4.2B | D35: Do subnational entities have (de jure / de facto) autonomy and authoritative power over fiscal decisions? | E35: No | F35: No | G35: No | J35: Bougainville: Yes (the AGB approves its own budget without a requirement for approval by the national level) | L35: Most LLGs are heavily/totally dependent on grant transfers received via Provinces. However, most LLG funding is de facto controlled and executed by the Province of District. Legally, Districts have the power to determine and control the budget allocation priorities for the Local-level Governments. | O35: … | P35: Yes | Q35: No | R35: Partially/Mixed/Other
C36: G4.3 | D36: Do subnational entities have extensive autonomy and authoritative power over budget/fiscal decisions? | E36: No | F36: No | G36: No | J36: Bougainville: Yes (while the AGB is heavily dependent on the National Government to finance its budget (approx. 90% is financed by IGFTs) a substantial portion of this financing is in the form of unconditional grants) | O36: … | P36: Yes | Q36: No | R36: Partially/Mixed/Other
D38: Governance of non-devolved subnational entities (empowered field administration?)
D39: Do subnational entities administratively form a hierarchical part of the higher-level government? | E39: … | F39: … | G39: … | H39: … | O39: … | P39: Yes | Q39: No | R39: Partially/Mixed/Other
D40: If G4.1 is Yes, do field administration departments or units form administrative units or sub-units? | E40: … | F40: … | G40: … | H40: … | O40: … | P40: Yes | Q40: No | R40: Partially/Mixed/Other
D41: If G4.2 is Yes, are field administration departments or units planned and managed as integrated units? | E41: … | F41: … | G41: … | H41: … | O41: … | P41: Yes | Q41: No | R41: Partially/Mixed/Other
D42: If G4.3 is Yes, are subnational field admin. departments or units organized sectorally or territorially (or mixed)? | E42: … | F42: … | G42: … | H42: … | O42: … | P42: Sectoral | Q42: Territorial | R42: Partially/Mixed/Other
D43: Do subnational entities budgetarily form a hierarchical part of the higher-level government? | E43: … | F43: … | G43: … | H43: … | O43: … | P43: Yes | Q43: No | R43: Partially/Mixed/Other
D44: If G4.5 is Yes, are the budgets of field depts./units included as identifiable sub-organizations or budget units? | E44: … | F44: … | G44: … | H44: … | O44: … | P44: Yes | Q44: No | R44: Partially/Mixed/Other
D45: If G4.6 is Yes, are field departments' or units' budgets organized sectorally or territorially (or mixed)? | E45: … | F45: … | G45: … | H45: … | O45: … | P45: Yes | Q45: No | R45: Partially/Mixed/Other
C47: G6 | D47: Nature of subnational governance institutions (level/tier/type)
C48: G6.1 | D48: Nature of subnational governance institutions (level/tier/type) | E48: Hybrid institution | F48: Non-devolved institution | G48: Non-devolved institution | J48: Bougainville: Extensive Devolution | K48: Districts are not formally local government bodies and do not have the power over service delivery, but control capital spending through District Development Authority, which has elected representation from both national government as well as LLGs. | L48: Local level governments have joint control over infrastructure, health, water supply etc with the provinces. | M48: Wards do not have no control over service delivery and other functions, but work under local level governments. | O48: … | P48: Devolution (extensive) | Q48: Devolution (limited) | R48: Hybrid institution | S48: Non-devolved institution | T48: None
C49: G6.2 | D49: Nature of subnational governance institutions (level/tier/type) - Detailed | E49: … | F49: … | G49: … | H49: … | O49: … | P49: 6 - Extensive devolution | Q49: 5 - Limited devolution | R49: 4 - Hybrid institution | S49: 3 - Horizontal deconcentration | T49: 2 - Vertical deconcentration | U49: 1 - Other institution | V49: 0 - None
...

Sheet IGP3 Functions
D2: LoGICA INTERGOVERNMENTAL PROFILE: DE FACTO FUNCTIONS AND RESPONSIBILITIES OF SUBNATIONAL GOVERNANCE INSTITUTIONS
C5: R1 | D5: Identifying the de facto responsibility for provision of frontline public services | F5: Primary responsibility | I5: Role of PCEBIs? | K5: Comments / Clarification
F6: HR | G6: Capital
D8: General public services (701); Public Order and Safety (703) | M8: … | N8: Note:
C9: R1.1 | D9: Civil administration (registration of births/marriages/deaths)* | F9: … | G9: XX | I9: … | M9: ='IGP1 Structure'!C21 -> C | N9: ='IGP1 Structure'!C21&" = "&'IGP1 Structure'!E21 -> C = National government
C10: R1.3 | D10: Fire protection (7032) | F10: … | G10: XX | I10: … | M10: ='IGP1 Structure'!C22 -> S1 | N10: ='IGP1 Structure'!C22&" = "&'IGP1 Structure'!E22 -> S1 = Provinces (20); AGB (1) & NCD (1)
D11: Economic Affairs (704) | M11: ='IGP1 Structure'!C23 -> S2 | N11: ='IGP1 Structure'!C23&" = "&'IGP1 Structure'!E23 -> S2 = Districts
C12: R1.4 | D12: Agricultural extension / livestock services (70421*) | F12: … | G12: … | I12: … | M12: ='IGP1 Structure'!C24 -> S3 | N12: ='IGP1 Structure'!C24&" = "&'IGP1 Structure'!E24 -> S3 = Local Level / Community Governments
C13: R1.8 | D13: Public transit (70456) | F13: … | G13: … | I13: … | M13: ='IGP1 Structure'!C25 -> S4 | N13: ='IGP1 Structure'!C25&" = "&'IGP1 Structure'!E25 -> S4 =
D14: Environmental Protection (705) | M14: OR | N14: OR = Other Regional
C15: R1.11 | D15: Waste management (7051) | F15: … | G15: … | I15: … | M15: OL | N15: OL = Other Local
D16: Housing and Community Amenities (706)
C17: R2.1 | D17: Land use planning and zoning | F17: … | G17: XX | I17: …
C18: R2.4 | D18: Building and construction regulation; building permits | F18: … | G18: XX | I18: …
C19: R1.16 | D19: Water supply (7063) | F19: … | G19: … | I19: …
C20: R1.17 | D20: Street lighting (7064) | F20: … | G20: … | I20: …
D21: Health (707)
C22: R1.19 | D22: Public health and outpatient services (7072,7074) | F22: … | G22: … | I22: …
D23: Recreation, culture, and religion (708)
C24: R1.20 | D24: Recreation and sporting services (7081) – includes parks | F24: … | G24: … | I24: …
D25: Education (709)
C26: R1.23 | D26: Primary Education (70912) | F26: … | G26: … | I26: …

Sheet IGP Info
D2: LOCAL GOVERNANCE INSTITUTIONS COMPARATIVE ASSESSMENT (LoGICA) PROFILE: PROFILE COMPLETION INFORMATION
C5: Z1 | D5: Completion of LoGICA Assessment and Profile
C6: Z1.1 | D6: Name(s) of researcher(s) completing IGP | E6: Nick Travis
C7: Z1.2 | D7: Name of peer reviewer(s) / country expert(s) (if any) | E7: Maholopa Laveil
C8: Z1.3 | D8: Name of LPSA Reviewer | E8: Jamie Boex
C10: Z4 | D10: LoGICA Assessment Abstract
C12: Z4.1 | D12: General Intergovernmental Context - One paragraph
D13: Papua New Guinea (PNG) is a unitary parliamentary democracy with a constitutional framework for decentralized governance. Since independence in 1975, the country has pursued several rounds of decentralization reforms, most notably through the 1995 Organic Law on Provincial Governments and Local-level Governments, which substantially restructured subnational governance. Although provincial and local-level institutions have legally recognized responsibilities, PNG remains highly centralized in fiscal and administrative terms. The national government retains considerable control over public revenues, personnel and major service delivery functions, while subnational governments depend heavily on intergovernmental transfers. Governance arrangements are further complicated by the prominent role of national Members of Parliament in directing development resources within their constituencies, often through mechanisms operating alongside regular subnational administrative structures.
C15: Z4.2 | D15: Subnational governance structure - One paragraph
D16: PNG's subnational governance structure comprises 20 provinces, the Autonomous Region of Bougainville and the National Capital District (NCD) at the regional level. At the local level, the country is divided into 96 districts, which serve as electoral constituencies and administrative jurisdictions, and 371 Local-level Governments (LLGs). Bougainville has a distinctive autonomous governance structure, including its own elected government and legislature, and 47 Community Governments that perform functions broadly equivalent to LLGs elsewhere. The National Capital District has separate governance arrangements and does not have regular LLGs. Districts are particularly complex institutional units: they encompass deconcentrated district administrations and District Development Authorities (DDAs), statutory bodies chaired by the respective national Members of Parliament. The resulting structure combines territorial government institutions, deconcentrated administrative units and special-purpose development authorities.
C18: Z4.3 | D18: Nature of subnational governance institutions - One paragraph
D19: PNG's subnational governance arrangements combine elements of devolution, deconcentration and vertical political control through shared (national-provincial-local) parliamentary representation. Provincial governments should be understood as hybrid institutions: they have political leadership, legislative powers, budgets and assigned responsibilities, but their administrative and fiscal autonomy remains constrained by national government control, particularly over public-service personnel. Bougainville is an important exception, with extensive devolved powers, its own elected government and a separate public service. Districts are non-devolved institutions, with deconcentrated district administrations operating alongside District Development Authorities (DDAs). Each DDA is chaired by the district’s elected national MP, has the (nationally-appointed) District Administrator as its CEO, and is governed by a Board that includes the district’s LLG presidents. Similarly, Local-Level Governments should also be considered as non-devolved institutions, despite having elected representative bodies and some statutory powers, because they lack (control over) their own staff: LLG managers are employed on their behalf as part of the national public service.
C21: Z4.4 | D21: Assignment of functions and responsibilities - One paragraph (Optional)
D22: PNG's legal framework assigns provincial and local-level governments responsibilities for a range of public services and development activities, but actual service delivery remains fragmented across national agencies, provincial administrations, districts and local institutions. Provincial governments play an important role in coordinating and supporting education, health, infrastructure maintenance, agricultural services and other provincial functions, although frontline personnel often remain within the national public service or sector-specific authorities, such as Provincial Health Authorities. District administrations provide deconcentrated support for routine services, while District Development Authorities primarily finance and implement infrastructure and development projects through centrally funded programs. Local-level Governments have statutory responsibilities for local planning, community infrastructure, markets, sanitation and other local services, but generally lack the financial and administrative capacity to perform these functions effectively. Bougainville has a broader range of autonomous responsibilities under its special constitutional arrangements. The practical division of responsibilities therefore often differs substantially from formal legal assignments.
C24: Z4.10 | D24: References and Resources - List
D25: https://www.clgf.org.uk/regions/clgf-pacific/papua-new-guinea/
D26: https://localgov.unwomen.org/country/PNG
D27: World Bank. 2021. Political Economy and Institutional Context of Sub-National Public Financial Management and Service Delivery in PNG : https://documents1.worldbank.org/curated/en/528061629352596609/pdf/Political-Economy-and-Institutional-Context-of-Sub-National-Public-Financial-Management-and-Service-Delivery-in-Papua-New-Guinea.pdf
D28: Maholopa Laveil. 2025. Shining a light on local level government in PNG. https://devpolicy.org/shining-a-light-on-local-level-government-in-png-20250612/
D29: The National Research Institute. Decentralised Governance Arrangements in PNG. 2022. https://pngnri.org/images/Publications/Research_Report_DECENTRALISED_GOVERNANCE_ARRANGEMENTS_IN_PAPUA_NEW_GUINEA-_A_FRAMEWORK_FOR_A_NATIONAL_CONVERSATION_.pdf

Sheet IGP Country Notes 
C2: ="IGP Country Notes for "&'IGP1 Structure'!E7&" ,"&'IGP1 Structure'!E8 -> IGP Country Notes for Papua New Guinea (PNG) ,2026
C3: ="These Country Notes for this LoGICA Intergovernmental Profile (IGP) describe the structure and nature of local governance institutions for "&'IGP1 Structure'!E204&" for the year "&'IGP1 Structure'!E8&"." -> These Country Notes for this LoGICA Intergovernmental Profile (IGP) describe the structure and nature of local governance institutions for Papua New Guinea for the year 2026.
C4: =IF(COUNTIF('IGP3 Functions'!$F$9:$G$26,"…")<10,"The IGP also assessed the de facto functional assignments for "&'IGP1 Structure'!E204&".","The IGP did not assess the de facto functional assignments for "&'IGP1 Structure'!E204&".") -> The IGP did not assess the de facto functional assignments for Papua New Guinea.
C5: ="This IGP was prepared by "&'IGP Info'!E6&"." -> This IGP was prepared by Nick Travis.
B6: =IF('IGP1 Structure'!D9="","XX",">") -> > | C6: =IF(B6=">","The total population of "&'IGP1 Structure'!E204&" is "&FIXED('IGP1 Structure'!E9,0,FALSE)&" residents.","The total population of "&'IGP1 Structure'!E204&" is not reported in the profile.") -> The total population of Papua New Guinea is 10,185,363 residents.
B7: =IF('IGP1 Structure'!L6&'IGP1 Structure'!L7&'IGP1 Structure'!L8&'IGP1 Structure'!L9="","XX",">") -> > | C7: =IF(B7=">",'IGP1 Structure'!L6&'IGP1 Structure'!L7&'IGP1 Structure'!L8&'IGP1 Structure'!L9,"") -> 2024 Census (see: https://www.nso.gov.pg/statistics/population)
C9: Constitutional, Legislative, and Policy Context for Subnational Governance
C10: ="The main legal/policy context for decentralization, subnational governance and intergovernmental relations in "&'IGP1 Structure'!E204&" is provided by:" -> The main legal/policy context for decentralization, subnational governance and intergovernmental relations in Papua New Guinea is provided by:
B11: =IF('IGP1 Structure'!D12="","XX",">") -> > | C11: =IF(B11=">",'IGP1 Structure'!D12&" ("&'IGP1 Structure'!F12&")","") -> Organic Law on Provincial Governments and Local Level Governments (1995)
B12: =IF('IGP1 Structure'!D13="","XX",">") -> > | C12: =IF(B12=">",'IGP1 Structure'!D13&" ("&'IGP1 Structure'!F13&")","") -> Intergovernmental Relations (Functions and Funding) Act (2009)
B13: =IF('IGP1 Structure'!D14="","XX",">") -> > | C13: =IF(B13=">",'IGP1 Structure'!D14&" ("&'IGP1 Structure'!F14&")","") -> District Development Authority Act (2014)
B14: =IF('IGP1 Structure'!D15="","XX",">") -> XX | C14: =IF(B14=">",'IGP1 Structure'!D15&" ("&'IGP1 Structure'!F15&")","")
B15: =IF('IGP1 Structure'!L11&'IGP1 Structure'!L12&'IGP1 Structure'!L13&'IGP1 Structure'!L14&'IGP1 Structure'!L15="","XX",">") -> XX | C15: =IF(B15=">",'IGP1 Structure'!L11&'IGP1 Structure'!L12&'IGP1 Structure'!L13&'IGP1 Structure'!L14&'IGP1 Structure'!L15,"")
C17: [Insert Table. Structure and nature of subnational governance institutions]
C19: Structure of Subnational Governance Institutions
C20: ="The Intergovernmental Profile considers "&'IGP1 Structure'!Q26&" different levels, tiers or types of subnational governance institutions, including:" -> The Intergovernmental Profile considers 3 different levels, tiers or types of subnational governance institutions, including:
B21: =IF('IGP1 Structure'!Q22="YES",">","XX") -> > | C21: =IF('IGP1 Structure'!Q22="YES",'IGP1 Structure'!S22&", which are a "&VLOOKUP('IGP1 Structure'!$R22,'IGP1 Structure'!$N$21:$P$26,3,FALSE)&". "&'IGP1 Structure'!L21,"") -> Provinces (20); AGB (1) & NCD (1), which are a main level/tier/type of regional governance institutions.
B22: =IF('IGP1 Structure'!Q23="YES",">","XX") -> > | C22: =IF('IGP1 Structure'!Q23="YES",'IGP1 Structure'!S23&", which are a "&VLOOKUP('IGP1 Structure'!$R23,'IGP1 Structure'!$N$21:$P$26,3,FALSE)&". "&'IGP1 Structure'!L22,"") -> Districts, which are a main level/tier/type of local governance institutions. Bougainville and the National Capital District are governed by different laws.
B23: =IF('IGP1 Structure'!Q24="YES",">","XX") -> > | C23: =IF('IGP1 Structure'!Q24="YES",'IGP1 Structure'!S24&", which are a "&VLOOKUP('IGP1 Structure'!$R24,'IGP1 Structure'!$N$21:$P$26,3,FALSE)&". "&'IGP1 Structure'!L23,"") -> Local Level / Community Governments, which are a level/tier/type of lower-level local governance institutions.
B24: =IF('IGP1 Structure'!Q25="YES",">","XX") -> XX | C24: =IF('IGP1 Structure'!Q25="YES",'IGP1 Structure'!S25&", which are a "&VLOOKUP('IGP1 Structure'!$R25,'IGP1 Structure'!$N$21:$P$26,3,FALSE)&". "&'IGP1 Structure'!L24,"")
B25: =IF('IGP1 Structure'!L21&'IGP1 Structure'!L22&'IGP1 Structure'!L23&'IGP1 Structure'!L24&'IGP1 Structure'!L25="","XX",">") -> > | C25: =IF(B25=">",'IGP1 Structure'!L21&""&'IGP1 Structure'!L22&""&'IGP1 Structure'!L23&""&'IGP1 Structure'!L24&""&'IGP1 Structure'!L25,"") -> Bougainville and the National Capital District are governed by different laws.The 20 Provinces contain 371 LLGs (source: https://www.treasury.gov.pg/wp-content/uploads/2025/11/eVolume-1-2026-.pdf), reported numbers fluctuate slightly. Bougainville previously had 12 LLGs but have been replaced by 47 Community Governments. The National Capital District does not have LLGs. See: https://devpolicy.org/shining-a-light-on-local-level-government-in-png-20250612/
C27: Nature of Subnational Governance Institutions: Overview
C28: In order to meet the definition of a devolved subnational government, subnational governance institutions must have certain institutional, political, administrative and fiscal characteristics, and have sufficient autonomy and authority to be able to respond the needs and priorities of their constituents.
B29: =B21 -> > | C29: =IF(B29=">","Based on the LoGICA typology, "&'IGP1 Structure'!$E$22&" are classified as "&'IGP2 Governance'!$E$73,"") -> Based on the LoGICA typology, Provinces (20); AGB (1) & NCD (1) are classified as hybrid local governance institutions, with features of both devolution and deconcentration.
B30: =B22 -> > | C30: =IF(B30=">","Based on the LoGICA typology, "&'IGP1 Structure'!$E$23&" are classified as "&'IGP2 Governance'!$F$73,"") -> Based on the LoGICA typology, Districts are classified as non-devolved subnational govenance institutions. (with elected council)
B31: =B23 -> > | C31: =IF(B31=">","Based on the LoGICA typology, "&'IGP1 Structure'!$E$24&" are classified as "&'IGP2 Governance'!$G$73,"") -> Based on the LoGICA typology, Local Level / Community Governments are classified as non-devolved subnational govenance institutions. (with elected council)
B32: =B24 -> XX | C32: =IF(B32=">","Based on the LoGICA typology, "&'IGP1 Structure'!$E$25&" are classified as "&'IGP2 Governance'!$H$73,"")
B34: =IF('IGP1 Structure'!$Q$22="YES",">","XX") -> > | C34: ="Nature of Subnational Governance Institutions: "&'IGP2 Governance'!E5 -> Nature of Subnational Governance Institutions: Provinces (20); AGB (1) & NCD (1)
B35: =IF('IGP1 Structure'!$Q$22="YES",">","XX") -> > | C35: =IF($B35=">",'IGP2 Governance'!$J$66&'IGP2 Governance'!$J$71,"") -> Provinces (20); AGB (1) & NCD (1) meet all the institutional/functional conditions of devolved subnational governments, albeit with limited powers/functions.
B36: =IF('IGP1 Structure'!$Q$22="YES",">","XX") -> > | C36: =IF($B36=">",'IGP2 Governance'!$J$67&'IGP2 Governance'!$J$72,"") -> Provinces (20); AGB (1) & NCD (1) do not meet the political conditions of devolved subnational governments (although preconditions are met).In the form of an elected Governor (other members of provincial assemblies are district MPs with a national mandate).Provincial Governors exercise meaningful political decision-making authority within their assigned sphere, including policy, planning, budgeting and provincial law-making. However, provincial political autonomy is materially constrained by national-level political influence embedded in Provincial Assemblies: District MPs derive their mandates from National Parliament elections, but also sit as voting members of Provincial Assemblies. This gives national legislators direct influence over provincial decisions. In practice, District MPs also control parallel resource channels through DDAs and DSIPs, which can compete with province-wide priorities and weaken the Governor’s authority to coordinate provincial development. Furthermore, section 141 of the Organic Law requires national ministerial approval for provincial laws to take effect, creating a formal higher-level constraint on provincial legislative autonomy.Bougainville: Yes
B37: =IF('IGP1 Structure'!$Q$22="YES",">","XX") -> > | C37: =IF($B37=">",'IGP2 Governance'!$J$68&'IGP2 Governance'!$J$73,"") -> Provinces (20); AGB (1) & NCD (1) do not meet the administrative conditions of devolved subnational governments (although preconditions are met).The Provincial Administrator (PA) is is a part of the national public service and assigned to the Province to manage provincial administration. The resources used to pay the salary of the PA id derives from a nationally funded staffing grant (IGFT) which forms part of the provincial resource envelope and flows through the provincial treasury.Following recent legal reforms (Amendment No. 15 to the Organic Law on Provincial and Local Level Government, effective February 2026), the authority to appoint provincial administrators shifted from the National Executive Council (NEC) directly to provincial governments, with the PEC selecting a candidate from a shortlist of three names provided by the Public Services Commission (PSC). Previously, the PA (CEO) was hired centrally (by the Department of Personnel Management) . DoPM retains powers in selection, promotion and termination. Many PAs (and their appointment process) appear politicized. Most sectoral leads are "deconcentrated" officials with only a "dotted line" to the CEO.Provincial staff are often/usually national public servants assigned/mapped to the province and subject to national rules.Dual subordination: the PA is responsible for overseeing all provincial level officers and staff, but in practice the majority are deconcentrated/seconded national officers and staff performing national-government and provincial/LLG functions, with a strong de facto reporting line to national departments which retain roles in policy formulation, standards and delivery.Bougainville: Yes (AGB has its own public service separate from the national public service and can appoint/manage their own officers and staff under their own administrative structure)
B38: =IF('IGP1 Structure'!$Q$22="YES",">","XX") -> > | C38: =IF($B38=">",'IGP2 Governance'!$J$69&'IGP2 Governance'!$J$74,"") -> Provinces (20); AGB (1) & NCD (1) do not meet the fiscal/budgetary conditions of devolved subnational governments (although preconditions are met).E.g. Provinces case raise OSRProvinces & NCD: Provincial governments prepare and approve their own budgets, but the adopted provincial appropriation is subsequently subject to national Treasury/Finance Minister review and approval, and this approval is actually exercised in practice.See for details: https://www.finance.gov.pg/wp-content/uploads/2026/04/FMM-02-10-Sub-National-Financial-Arrangements.pdfBougainville: Yes (the AGB approves its own budget without a requirement for approval by the national level)Bougainville: Yes (while the AGB is heavily dependent on the National Government to finance its budget (approx. 90% is financed by IGFTs) a substantial portion of this financing is in the form of unconditional grants)
B39: =IF('IGP1 Structure'!$Q$22="YES",">","XX") -> > | C39: =IF(B39=">",$C$29,"") -> Based on the LoGICA typology, Provinces (20); AGB (1) & NCD (1) are classified as hybrid local governance institutions, with features of both devolution and deconcentration.
B41: =IF('IGP1 Structure'!$Q$23="YES",">","XX") -> > | C41: ="Nature of Subnational Governance Institutions: "&'IGP2 Governance'!F5 -> Nature of Subnational Governance Institutions: Districts
B42: =IF('IGP1 Structure'!$Q$23="YES",">","XX") -> > | C42: =IF($B42=">",'IGP2 Governance'!$K$66&'IGP2 Governance'!$K$71,"") -> Districts do not meet the institutional/functional preconditions of devolved subnational governments.Districts are not permitted to pass legislation or raise revenue.
B43: =IF('IGP1 Structure'!$Q$23="YES",">","XX") -> > | C43: =IF($B43=">",'IGP2 Governance'!$K$67&'IGP2 Governance'!$K$72,"") -> Districts do not meet the political preconditions of devolved subnational governments.Although directly elected by voters in the district/open electorate and deeply involved in district development, the MP's institutional role is as a member of the National Parliament, not as the political leader of a district government.
B44: =IF('IGP1 Structure'!$Q$23="YES",">","XX") -> > | C44: =IF($B44=">",'IGP2 Governance'!$K$68&'IGP2 Governance'!$K$73,"") -> Districts do not meet the administrative preconditions of devolved subnational governments.The DA salary is included in the Provincial budgetDistrict CEOs are hired centrally (by the DoPM).District CEOs report to both the PA and the DDA Board.The DoPM has the power to hire and fire.
B45: =IF('IGP1 Structure'!$Q$23="YES",">","XX") -> > | C45: =IF($B45=">",'IGP2 Governance'!$K$69&'IGP2 Governance'!$K$74,"") -> Districts do not meet the fiscal/budgetary preconditions of devolved subnational governments.
B46: =IF('IGP1 Structure'!$Q$23="YES",">","XX") -> > | C46: =IF(B46=">",$C$30,"") -> Based on the LoGICA typology, Districts are classified as non-devolved subnational govenance institutions. (with elected council)
B48: =IF('IGP1 Structure'!$Q$24="YES",">","XX") -> > | C48: ="Nature of Subnational Governance Institutions: "&'IGP2 Governance'!G5 -> Nature of Subnational Governance Institutions: Local Level / Community Governments
...

Sheet IGP Extract
C2: ="Table. Structure and nature of subnational governance institutions: "&'IGP1 Structure'!E7 -> Table. Structure and nature of subnational governance institutions: Papua New Guinea (PNG)
E4: Subnational jurisdictions | I4: Subnational autonomy and authority (0-3)
C5: Code | D5: Country | E5: Name | F5: Number | G5: Avg. Pop. | I5: Institutional | J5: Political | K5: Admin. | L5: Fiscal | N5: Subnat. Institutional Type
D7: Regional governance institutions
C8: =_xlfn.IFNA(VLOOKUP('IGP1 Structure'!$E$7,'IGP1 Structure'!$D$30:$F$203,3,FALSE),"-") -> PNG | D8: =_xlfn.IFNA(VLOOKUP('IGP1 Structure'!$E$7,'IGP1 Structure'!$D$30:$F$203,2,FALSE),"-") -> Papua New Guinea | E8: =_xlfn.IFNA(VLOOKUP($T8,'IGP1 Structure'!$R$22:$U$25,2,FALSE),"") -> Provinces (20); AGB (1) & NCD (1) | F8: =_xlfn.IFNA(VLOOKUP($T8,'IGP1 Structure'!$R$22:$U$25,3,FALSE),"") -> 22 | G8: =_xlfn.IFNA(VLOOKUP($T8,'IGP1 Structure'!$R$22:$U$25,4,FALSE),"") -> 462971.05 | I8: =IFERROR(HLOOKUP($E8,'IGP2 Governance'!$E$53:$H$70,14,FALSE),"") -> 2 | J8: =IFERROR(HLOOKUP($E8,'IGP2 Governance'!$E$53:$H$70,15,FALSE),"") -> 1 | K8: =IFERROR(HLOOKUP($E8,'IGP2 Governance'!$E$53:$H$70,16,FALSE),"") -> 1 | L8: =IFERROR(HLOOKUP($E8,'IGP2 Governance'!$E$53:$H$70,17,FALSE),"") -> 1 | N8: =IFERROR(HLOOKUP($E8,'IGP2 Governance'!$E$53:$H$71,19,FALSE),"") -> Hybrid institution | T8: 1
D10: Local governance institutions
C11: =C8 -> PNG | D11: =D8 -> Papua New Guinea | E11: =_xlfn.IFNA(VLOOKUP($T11,'IGP1 Structure'!$R$22:$U$25,2,FALSE),"") -> Districts | F11: =_xlfn.IFNA(VLOOKUP($T11,'IGP1 Structure'!$R$22:$U$25,3,FALSE),"") -> 96 | G11: =_xlfn.IFNA(VLOOKUP($T11,'IGP1 Structure'!$R$22:$U$25,4,FALSE),"") -> 106097.53 | I11: =IFERROR(HLOOKUP($E11,'IGP2 Governance'!$E$53:$H$70,14,FALSE),"") -> 0 | J11: =IFERROR(HLOOKUP($E11,'IGP2 Governance'!$E$53:$H$70,15,FALSE),"") -> 0 | K11: =IFERROR(HLOOKUP($E11,'IGP2 Governance'!$E$53:$H$70,16,FALSE),"") -> 0 | L11: =IFERROR(HLOOKUP($E11,'IGP2 Governance'!$E$53:$H$70,17,FALSE),"") -> 0 | N11: =IFERROR(HLOOKUP($E11,'IGP2 Governance'!$E$53:$H$71,19,FALSE),"") -> Non-devolved institution (with elected council) | T11: 2
D13: Lower-local governance institutions
C14: =C11 -> PNG | D14: =D11 -> Papua New Guinea | E14: =_xlfn.IFNA(VLOOKUP($T14,'IGP1 Structure'!$R$22:$U$25,2,FALSE),"") -> Local Level / Community Governments | F14: =_xlfn.IFNA(VLOOKUP($T14,'IGP1 Structure'!$R$22:$U$25,3,FALSE),"") -> 418 | G14: =_xlfn.IFNA(VLOOKUP($T14,'IGP1 Structure'!$R$22:$U$25,4,FALSE),"") -> 22556.481 | I14: =IFERROR(HLOOKUP($E14,'IGP2 Governance'!$E$53:$H$70,14,FALSE),"") -> 1 | J14: =IFERROR(HLOOKUP($E14,'IGP2 Governance'!$E$53:$H$70,15,FALSE),"") -> 1 | K14: =IFERROR(HLOOKUP($E14,'IGP2 Governance'!$E$53:$H$70,16,FALSE),"") -> 0 | L14: =IFERROR(HLOOKUP($E14,'IGP2 Governance'!$E$53:$H$70,17,FALSE),"") -> 1 | N14: =IFERROR(HLOOKUP($E14,'IGP2 Governance'!$E$53:$H$71,19,FALSE),"") -> Non-devolved institution (with elected council) | T14: 3
D16: Urban local governance institutions
C17: =C14 -> PNG | D17: =D14 -> Papua New Guinea | E17: =_xlfn.IFNA(VLOOKUP($T17,'IGP1 Structure'!$R$22:$U$25,2,FALSE),"") | F17: =_xlfn.IFNA(VLOOKUP($T17,'IGP1 Structure'!$R$22:$U$25,3,FALSE),"") | G17: =_xlfn.IFNA(VLOOKUP($T17,'IGP1 Structure'!$R$22:$U$25,4,FALSE),"") | I17: =IFERROR(HLOOKUP($E17,'IGP2 Governance'!$E$53:$H$70,14,FALSE),"") | J17: =IFERROR(HLOOKUP($E17,'IGP2 Governance'!$E$53:$H$70,15,FALSE),"") | K17: =IFERROR(HLOOKUP($E17,'IGP2 Governance'!$E$53:$H$70,16,FALSE),"") | L17: =IFERROR(HLOOKUP($E17,'IGP2 Governance'!$E$53:$H$70,17,FALSE),"") | N17: =IFERROR(HLOOKUP($E17,'IGP2 Governance'!$E$53:$H$71,19,FALSE),"") | T17: 4
E21: =IF('IGP1 Structure'!$Q22="YES",'IGP1 Structure'!S22,"") -> Provinces (20); AGB (1) & NCD (1) | F21: =IF('IGP1 Structure'!$Q22="YES",'IGP1 Structure'!T22,"") -> 22 | G21: =IF('IGP1 Structure'!$Q22="YES",'IGP1 Structure'!U22,"") -> 462971.05 | I21: =IFERROR(HLOOKUP($E21,'IGP2 Governance'!$E$53:$H$70,14,FALSE),"") -> 2 | J21: =IFERROR(HLOOKUP($E21,'IGP2 Governance'!$E$53:$H$70,15,FALSE),"") -> 1 | K21: =IFERROR(HLOOKUP($E21,'IGP2 Governance'!$E$53:$H$70,16,FALSE),"") -> 1 | L21: =IFERROR(HLOOKUP($E21,'IGP2 Governance'!$E$53:$H$70,17,FALSE),"") -> 1 | N21: =IFERROR(HLOOKUP($E21,'IGP2 Governance'!$E$53:$H$71,19,FALSE),"") -> Hybrid institution
E22: =IF('IGP1 Structure'!$Q23="YES",'IGP1 Structure'!S23,"") -> Districts | F22: =IF('IGP1 Structure'!$Q23="YES",'IGP1 Structure'!T23,"") -> 96 | G22: =IF('IGP1 Structure'!$Q23="YES",'IGP1 Structure'!U23,"") -> 106097.53 | I22: =IFERROR(HLOOKUP($E22,'IGP2 Governance'!$E$53:$H$70,14,FALSE),"") -> 0 | J22: =IFERROR(HLOOKUP($E22,'IGP2 Governance'!$E$53:$H$70,15,FALSE),"") -> 0 | K22: =IFERROR(HLOOKUP($E22,'IGP2 Governance'!$E$53:$H$70,16,FALSE),"") -> 0 | L22: =IFERROR(HLOOKUP($E22,'IGP2 Governance'!$E$53:$H$70,17,FALSE),"") -> 0 | N22: =IFERROR(HLOOKUP($E22,'IGP2 Governance'!$E$53:$H$71,19,FALSE),"") -> Non-devolved institution (with elected council)
E23: =IF('IGP1 Structure'!$Q24="YES",'IGP1 Structure'!S24,"") -> Local Level / Community Governments | F23: =IF('IGP1 Structure'!$Q24="YES",'IGP1 Structure'!T24,"") -> 418 | G23: =IF('IGP1 Structure'!$Q24="YES",'IGP1 Structure'!U24,"") -> 22556.481 | I23: =IFERROR(HLOOKUP($E23,'IGP2 Governance'!$E$53:$H$70,14,FALSE),"") -> 1 | J23: =IFERROR(HLOOKUP($E23,'IGP2 Governance'!$E$53:$H$70,15,FALSE),"") -> 1 | K23: =IFERROR(HLOOKUP($E23,'IGP2 Governance'!$E$53:$H$70,16,FALSE),"") -> 0 | L23: =IFERROR(HLOOKUP($E23,'IGP2 Governance'!$E$53:$H$70,17,FALSE),"") -> 1 | N23: =IFERROR(HLOOKUP($E23,'IGP2 Governance'!$E$53:$H$71,19,FALSE),"") -> Non-devolved institution (with elected council)
E24: =IF('IGP1 Structure'!$Q25="YES",'IGP1 Structure'!S25,"") | F24: =IF('IGP1 Structure'!$Q25="YES",'IGP1 Structure'!T25,"") | G24: =IF('IGP1 Structure'!$Q25="YES",'IGP1 Structure'!U25,"") | I24: =IFERROR(HLOOKUP($E24,'IGP2 Governance'!$E$53:$H$70,14,FALSE),"") | J24: =IFERROR(HLOOKUP($E24,'IGP2 Governance'!$E$53:$H$70,15,FALSE),"") | K24: =IFERROR(HLOOKUP($E24,'IGP2 Governance'!$E$53:$H$70,16,FALSE),"") | L24: =IFERROR(HLOOKUP($E24,'IGP2 Governance'!$E$53:$H$70,17,FALSE),"") | N24: =IFERROR(HLOOKUP($E24,'IGP2 Governance'!$E$53:$H$71,19,FALSE),"")
E27: ="Table. Functions of subnational govenance institutions: "&'IGP1 Structure'!E7 -> Table. Functions of subnational govenance institutions: Papua New Guinea (PNG)
F29: Civil Administration | G29: Fire protection | H29: Agr. extension | I29: Public transit | J29: Waste management | K29: Land use planning & zoning | L29: Building permits | M29: Water supply | N29: Street lighting | O29: Public health (outpatient) | P29: Recreation & sports | Q29: Primary education | R29: Total
E30: ='IGP1 Structure'!E21 -> National government | F30: =COUNTIF('IGP3 Functions'!$F$9:$G$9,$T30) -> 0 | G30: =COUNTIF('IGP3 Functions'!$F$10:$G$10,$T30) -> 0 | H30: =COUNTIF('IGP3 Functions'!$F$12:$G$12,$T30) -> 0 | I30: =COUNTIF('IGP3 Functions'!$F$13:$G$13,$T30) -> 0 | J30: =COUNTIF('IGP3 Functions'!$F$15:$G$15,$T30) -> 0 | K30: =COUNTIF('IGP3 Functions'!$F$17:$G$17,$T30) -> 0 | L30: =COUNTIF('IGP3 Functions'!$F$18:$G$18,$T30) -> 0 | M30: =COUNTIF('IGP3 Functions'!$F$19:$G$19,$T30) -> 0 | N30: =COUNTIF('IGP3 Functions'!$F$20:$G$20,$T30) -> 0 | O30: =COUNTIF('IGP3 Functions'!$F$22:$G$22,$T30) -> 0 | P30: =COUNTIF('IGP3 Functions'!$F$24:$G$24,$T30) -> 0 | Q30: =COUNTIF('IGP3 Functions'!$F$26:$G$26,$T30) -> 0 | R30: =SUM(F30:Q30) -> 0 | T30: C | U30: C
E31: =IF('IGP1 Structure'!Q22="YES",'IGP1 Structure'!E22,"…") -> Provinces (20); AGB (1) & NCD (1) | F31: =COUNTIF('IGP3 Functions'!$F$9:$G$9,$T31) -> 0 | G31: =COUNTIF('IGP3 Functions'!$F$10:$G$10,$T31) -> 0 | H31: =COUNTIF('IGP3 Functions'!$F$12:$G$12,$T31) -> 0 | I31: =COUNTIF('IGP3 Functions'!$F$13:$G$13,$T31) -> 0 | J31: =COUNTIF('IGP3 Functions'!$F$15:$G$15,$T31) -> 0 | K31: =COUNTIF('IGP3 Functions'!$F$17:$G$17,$T31) -> 0 | L31: =COUNTIF('IGP3 Functions'!$F$18:$G$18,$T31) -> 0 | M31: =COUNTIF('IGP3 Functions'!$F$19:$G$19,$T31) -> 0 | N31: =COUNTIF('IGP3 Functions'!$F$20:$G$20,$T31) -> 0 | O31: =COUNTIF('IGP3 Functions'!$F$22:$G$22,$T31) -> 0 | P31: =COUNTIF('IGP3 Functions'!$F$24:$G$24,$T31) -> 0 | Q31: =COUNTIF('IGP3 Functions'!$F$26:$G$26,$T31) -> 0 | R31: =SUM(F31:Q31) -> 0 | T31: S1 | U31: =IF('IGP1 Structure'!R22="1","R",IF('IGP1 Structure'!R22="2","L",IF('IGP1 Structure'!R22="3","L",IF('IGP1 Structure'!R22="4","L",IF('IGP1 Structure'!R22="5","R",IF('IGP1 Structure'!R22="6","L","C")))))) -> R
E32: =IF('IGP1 Structure'!Q23="YES",'IGP1 Structure'!E23,"…") -> Districts | F32: =COUNTIF('IGP3 Functions'!$F$9:$G$9,$T32) -> 0 | G32: =COUNTIF('IGP3 Functions'!$F$10:$G$10,$T32) -> 0 | H32: =COUNTIF('IGP3 Functions'!$F$12:$G$12,$T32) -> 0 | I32: =COUNTIF('IGP3 Functions'!$F$13:$G$13,$T32) -> 0 | J32: =COUNTIF('IGP3 Functions'!$F$15:$G$15,$T32) -> 0 | K32: =COUNTIF('IGP3 Functions'!$F$17:$G$17,$T32) -> 0 | L32: =COUNTIF('IGP3 Functions'!$F$18:$G$18,$T32) -> 0 | M32: =COUNTIF('IGP3 Functions'!$F$19:$G$19,$T32) -> 0 | N32: =COUNTIF('IGP3 Functions'!$F$20:$G$20,$T32) -> 0 | O32: =COUNTIF('IGP3 Functions'!$F$22:$G$22,$T32) -> 0 | P32: =COUNTIF('IGP3 Functions'!$F$24:$G$24,$T32) -> 0 | Q32: =COUNTIF('IGP3 Functions'!$F$26:$G$26,$T32) -> 0 | R32: =SUM(F32:Q32) -> 0 | T32: S2 | U32: =IF('IGP1 Structure'!R23="1","R",IF('IGP1 Structure'!R23="2","L",IF('IGP1 Structure'!R23="3","L",IF('IGP1 Structure'!R23="4","L",IF('IGP1 Structure'!R23="5","R",IF('IGP1 Structure'!R23="6","L","C")))))) -> L
E33: =IF('IGP1 Structure'!Q24="YES",'IGP1 Structure'!E24,"…") -> Local Level / Community Governments | F33: =COUNTIF('IGP3 Functions'!$F$9:$G$9,$T33) -> 0 | G33: =COUNTIF('IGP3 Functions'!$F$10:$G$10,$T33) -> 0 | H33: =COUNTIF('IGP3 Functions'!$F$12:$G$12,$T33) -> 0 | I33: =COUNTIF('IGP3 Functions'!$F$13:$G$13,$T33) -> 0 | J33: =COUNTIF('IGP3 Functions'!$F$15:$G$15,$T33) -> 0 | K33: =COUNTIF('IGP3 Functions'!$F$17:$G$17,$T33) -> 0 | L33: =COUNTIF('IGP3 Functions'!$F$18:$G$18,$T33) -> 0 | M33: =COUNTIF('IGP3 Functions'!$F$19:$G$19,$T33) -> 0 | N33: =COUNTIF('IGP3 Functions'!$F$20:$G$20,$T33) -> 0 | O33: =COUNTIF('IGP3 Functions'!$F$22:$G$22,$T33) -> 0 | P33: =COUNTIF('IGP3 Functions'!$F$24:$G$24,$T33) -> 0 | Q33: =COUNTIF('IGP3 Functions'!$F$26:$G$26,$T33) -> 0 | R33: =SUM(F33:Q33) -> 0 | T33: S3 | U33: =IF('IGP1 Structure'!R24="1","R",IF('IGP1 Structure'!R24="2","L",IF('IGP1 Structure'!R24="3","L",IF('IGP1 Structure'!R24="4","L",IF('IGP1 Structure'!R24="5","R",IF('IGP1 Structure'!R24="6","L","C")))))) -> L
E34: =IF('IGP1 Structure'!Q25="YES",'IGP1 Structure'!E25,"…") -> … | F34: =COUNTIF('IGP3 Functions'!$F$9:$G$9,$T34) -> 0 | G34: =COUNTIF('IGP3 Functions'!$F$10:$G$10,$T34) -> 0 | H34: =COUNTIF('IGP3 Functions'!$F$12:$G$12,$T34) -> 0 | I34: =COUNTIF('IGP3 Functions'!$F$13:$G$13,$T34) -> 0 | J34: =COUNTIF('IGP3 Functions'!$F$15:$G$15,$T34) -> 0 | K34: =COUNTIF('IGP3 Functions'!$F$17:$G$17,$T34) -> 0 | L34: =COUNTIF('IGP3 Functions'!$F$18:$G$18,$T34) -> 0 | M34: =COUNTIF('IGP3 Functions'!$F$19:$G$19,$T34) -> 0 | N34: =COUNTIF('IGP3 Functions'!$F$20:$G$20,$T34) -> 0 | O34: =COUNTIF('IGP3 Functions'!$F$22:$G$22,$T34) -> 0 | P34: =COUNTIF('IGP3 Functions'!$F$24:$G$24,$T34) -> 0 | Q34: =COUNTIF('IGP3 Functions'!$F$26:$G$26,$T34) -> 0 | R34: =SUM(F34:Q34) -> 0 | T34: S4 | U34: =IF('IGP1 Structure'!R25="1","R",IF('IGP1 Structure'!R25="2","L",IF('IGP1 Structure'!R25="3","L",IF('IGP1 Structure'!R25="4","L",IF('IGP1 Structure'!R25="5","R",IF('IGP1 Structure'!R25="6","L","C")))))) -> C
E35: Other regional-level institutions | F35: =COUNTIF('IGP3 Functions'!$F$9:$G$9,$T35) -> 0 | G35: =COUNTIF('IGP3 Functions'!$F$10:$G$10,$T35) -> 0 | H35: =COUNTIF('IGP3 Functions'!$F$12:$G$12,$T35) -> 0 | I35: =COUNTIF('IGP3 Functions'!$F$13:$G$13,$T35) -> 0 | J35: =COUNTIF('IGP3 Functions'!$F$15:$G$15,$T35) -> 0 | K35: =COUNTIF('IGP3 Functions'!$F$17:$G$17,$T35) -> 0 | L35: =COUNTIF('IGP3 Functions'!$F$18:$G$18,$T35) -> 0 | M35: =COUNTIF('IGP3 Functions'!$F$19:$G$19,$T35) -> 0 | N35: =COUNTIF('IGP3 Functions'!$F$20:$G$20,$T35) -> 0 | O35: =COUNTIF('IGP3 Functions'!$F$22:$G$22,$T35) -> 0 | P35: =COUNTIF('IGP3 Functions'!$F$24:$G$24,$T35) -> 0 | Q35: =COUNTIF('IGP3 Functions'!$F$26:$G$26,$T35) -> 0 | R35: =SUM(F35:Q35) -> 0 | T35: OR | U35: R
E36: Other local-level institutions | F36: =COUNTIF('IGP3 Functions'!$F$9:$G$9,$T36) -> 0 | G36: =COUNTIF('IGP3 Functions'!$F$10:$G$10,$T36) -> 0 | H36: =COUNTIF('IGP3 Functions'!$F$12:$G$12,$T36) -> 0 | I36: =COUNTIF('IGP3 Functions'!$F$13:$G$13,$T36) -> 0 | J36: =COUNTIF('IGP3 Functions'!$F$15:$G$15,$T36) -> 0 | K36: =COUNTIF('IGP3 Functions'!$F$17:$G$17,$T36) -> 0 | L36: =COUNTIF('IGP3 Functions'!$F$18:$G$18,$T36) -> 0 | M36: =COUNTIF('IGP3 Functions'!$F$19:$G$19,$T36) -> 0 | N36: =COUNTIF('IGP3 Functions'!$F$20:$G$20,$T36) -> 0 | O36: =COUNTIF('IGP3 Functions'!$F$22:$G$22,$T36) -> 0 | P36: =COUNTIF('IGP3 Functions'!$F$24:$G$24,$T36) -> 0 | Q36: =COUNTIF('IGP3 Functions'!$F$26:$G$26,$T36) -> 0 | R36: =SUM(F36:Q36) -> 0 | T36: OL | U36: L
E37: Central | F37: =SUMIF($U$30:$U$36,$U37,F$30:F$36) -> 0 | G37: =SUMIF($U$30:$U$36,$U37,G$30:G$36) -> 0 | H37: =SUMIF($U$30:$U$36,$U37,H$30:H$36) -> 0 | I37: =SUMIF($U$30:$U$36,$U37,I$30:I$36) -> 0 | J37: =SUMIF($U$30:$U$36,$U37,J$30:J$36) -> 0 | K37: =SUMIF($U$30:$U$36,$U37,K$30:K$36) -> 0 | L37: =SUMIF($U$30:$U$36,$U37,L$30:L$36) -> 0 | M37: =SUMIF($U$30:$U$36,$U37,M$30:M$36) -> 0 | ... Q37: =SUMIF($U$30:$U$36,$U37,Q$30:Q$36) -> 0 | R37: =SUM(F37:Q37) -> 0 | U37: C
E38: Regional | F38: =SUMIF($U$30:$U$36,$U38,F$30:F$36) -> 0 | G38: =SUMIF($U$30:$U$36,$U38,G$30:G$36) -> 0 | H38: =SUMIF($U$30:$U$36,$U38,H$30:H$36) -> 0 | I38: =SUMIF($U$30:$U$36,$U38,I$30:I$36) -> 0 | J38: =SUMIF($U$30:$U$36,$U38,J$30:J$36) -> 0 | K38: =SUMIF($U$30:$U$36,$U38,K$30:K$36) -> 0 | L38: =SUMIF($U$30:$U$36,$U38,L$30:L$36) -> 0 | M38: =SUMIF($U$30:$U$36,$U38,M$30:M$36) -> 0 | ... Q38: =SUMIF($U$30:$U$36,$U38,Q$30:Q$36) -> 0 | R38: =SUM(F38:Q38) -> 0 | U38: R
E39: Local | F39: =SUMIF($U$30:$U$36,$U39,F$30:F$36) -> 0 | G39: =SUMIF($U$30:$U$36,$U39,G$30:G$36) -> 0 | H39: =SUMIF($U$30:$U$36,$U39,H$30:H$36) -> 0 | I39: =SUMIF($U$30:$U$36,$U39,I$30:I$36) -> 0 | J39: =SUMIF($U$30:$U$36,$U39,J$30:J$36) -> 0 | K39: =SUMIF($U$30:$U$36,$U39,K$30:K$36) -> 0 | L39: =SUMIF($U$30:$U$36,$U39,L$30:L$36) -> 0 | M39: =SUMIF($U$30:$U$36,$U39,M$30:M$36) -> 0 | ... Q39: =SUMIF($U$30:$U$36,$U39,Q$30:Q$36) -> 0 | R39: =SUM(F39:Q39) -> 0 | U39: L
E40: Total | F40: =SUM(F37:F39) -> 0 | G40: =SUM(G37:G39) -> 0 | H40: =SUM(H37:H39) -> 0 | I40: =SUM(I37:I39) -> 0 | J40: =SUM(J37:J39) -> 0 | K40: =SUM(K37:K39) -> 0 | L40: =SUM(L37:L39) -> 0 | M40: =SUM(M37:M39) -> 0 | ... Q40: =SUM(Q37:Q39) -> 0 | R40: =SUM(F40:Q40) -> 0
A46: ='IGP1 Structure'!A1 -> 0 | B46: ='IGP1 Structure'!B1 -> 0 | C46: ='IGP1 Structure'!C1 -> 0 | D46: ='IGP1 Structure'!D1 -> 0 | E46: ='IGP1 Structure'!E1 -> 0 | F46: ='IGP1 Structure'!F1 -> 0 | G46: ='IGP1 Structure'!G1 -> 0 | H46: ='IGP1 Structure'!H1 -> 0 | ... L46: ='IGP1 Structure'!L1 -> 0
A47: ='IGP1 Structure'!A2 -> 0 | B47: ='IGP1 Structure'!B2 -> 0 | C47: ='IGP1 Structure'!C2 -> 0 | D47: ='IGP1 Structure'!D2 -> LoGICA INTERGOVERNMENTAL PROFILE: STRUCTURE OF SUBNATIONAL GOVERNANCE INSTITUTIONS | E47: ='IGP1 Structure'!E2 -> 0 | F47: ='IGP1 Structure'!F2 -> 0 | G47: ='IGP1 Structure'!G2 -> 0 | H47: ='IGP1 Structure'!H2 -> 0 | ... L47: ='IGP1 Structure'!L2 -> 0
A48: ='IGP1 Structure'!A3 -> 0 | B48: ='IGP1 Structure'!B3 -> 0 | C48: ='IGP1 Structure'!C3 -> 0 | D48: ='IGP1 Structure'!D3 -> 0 | E48: ='IGP1 Structure'!E3 -> 0 | F48: ='IGP1 Structure'!F3 -> 0 | G48: ='IGP1 Structure'!G3 -> 0 | H48: ='IGP1 Structure'!H3 -> 0 | ... L48: ='IGP1 Structure'!L3 -> 0
A49: ='IGP1 Structure'!A4 -> 0 | B49: ='IGP1 Structure'!B4 -> 0 | C49: ='IGP1 Structure'!C4 -> 0 | D49: ='IGP1 Structure'!D4 -> 0 | E49: ='IGP1 Structure'!E4 -> 0 | F49: ='IGP1 Structure'!F4 -> 0 | G49: ='IGP1 Structure'!G4 -> 0 | H49: ='IGP1 Structure'!H4 -> 0 | ... L49: ='IGP1 Structure'!L4 -> 0
A50: ='IGP1 Structure'!A5 -> 0 | B50: ='IGP1 Structure'!B5 -> 0 | C50: ='IGP1 Structure'!C5 -> 0 | D50: ='IGP1 Structure'!D5 -> General Country Information | E50: ='IGP1 Structure'!E5 -> 0 | F50: ='IGP1 Structure'!F5 -> 0 | G50: ='IGP1 Structure'!G5 -> 0 | H50: ='IGP1 Structure'!H5 -> 0 | ... L50: ='IGP1 Structure'!L5 -> Comments / Clarification
A51: ='IGP1 Structure'!A6 -> 0 | B51: ='IGP1 Structure'!B6 -> 0 | C51: ='IGP1 Structure'!C6 -> C1 | D51: ='IGP1 Structure'!D6 -> Basic Country Information | E51: ='IGP1 Structure'!E6 -> 0 | F51: ='IGP1 Structure'!F6 -> 0 | G51: ='IGP1 Structure'!G6 -> 0 | H51: ='IGP1 Structure'!H6 -> 0 | ... L51: ='IGP1 Structure'!L6 -> 0
A52: ='IGP1 Structure'!A7 -> 0 | B52: ='IGP1 Structure'!B7 -> 0 | C52: ='IGP1 Structure'!C7 -> C1.1 | D52: ='IGP1 Structure'!D7 -> Country Name | E52: ='IGP1 Structure'!E7 -> Papua New Guinea (PNG) | F52: ='IGP1 Structure'!F7 -> 0 | G52: ='IGP1 Structure'!G7 -> 0 | H52: ='IGP1 Structure'!H7 -> 0 | ... L52: ='IGP1 Structure'!L7 -> 0
A53: ='IGP1 Structure'!A8 -> 0 | B53: ='IGP1 Structure'!B8 -> 0 | C53: ='IGP1 Structure'!C8 -> C1.2 | D53: ='IGP1 Structure'!D8 -> Information/Data for Year | E53: ='IGP1 Structure'!E8 -> 2026 | F53: ='IGP1 Structure'!F8 -> 0 | G53: ='IGP1 Structure'!G8 -> 0 | H53: ='IGP1 Structure'!H8 -> 0 | ... L53: ='IGP1 Structure'!L8 -> 0
A54: ='IGP1 Structure'!A9 -> 0 | B54: ='IGP1 Structure'!B9 -> 0 | C54: ='IGP1 Structure'!C9 -> C1.3 | D54: ='IGP1 Structure'!D9 -> Total National Population | E54: ='IGP1 Structure'!E9 -> 10185363 | F54: ='IGP1 Structure'!F9 -> 0 | G54: ='IGP1 Structure'!G9 -> 0 | H54: ='IGP1 Structure'!H9 -> 0 | ... L54: ='IGP1 Structure'!L9 -> 2024 Census (see: https://www.nso.gov.pg/statistics/population)
A55: ='IGP1 Structure'!A10 -> 0 | B55: ='IGP1 Structure'!B10 -> 0 | C55: ='IGP1 Structure'!C10 -> 0 | D55: ='IGP1 Structure'!D10 -> 0 | E55: ='IGP1 Structure'!E10 -> 0 | F55: ='IGP1 Structure'!F10 -> 0 | G55: ='IGP1 Structure'!G10 -> 0 | H55: ='IGP1 Structure'!H10 -> 0 | ... L55: ='IGP1 Structure'!L10 -> 0
A56: ='IGP1 Structure'!A11 -> 0 | B56: ='IGP1 Structure'!B11 -> 0 | C56: ='IGP1 Structure'!C11 -> C.4 | D56: ='IGP1 Structure'!D11 -> Main decentralization / subnational / intergovernmental legislation /policies | E56: ='IGP1 Structure'!E11 -> 0 | F56: ='IGP1 Structure'!F11 -> Year Enacted | G56: ='IGP1 Structure'!G11 -> 0 | H56: ='IGP1 Structure'!H11 -> 0 | ... L56: ='IGP1 Structure'!L11 -> 0
A57: ='IGP1 Structure'!A12 -> 0 | B57: ='IGP1 Structure'!B12 -> 0 | C57: ='IGP1 Structure'!C12 -> C4.1 | D57: ='IGP1 Structure'!D12 -> Organic Law on Provincial Governments and Local Level Governments | E57: ='IGP1 Structure'!E12 -> 0 | F57: ='IGP1 Structure'!F12 -> 1995 | G57: ='IGP1 Structure'!G12 -> 0 | H57: ='IGP1 Structure'!H12 -> 0 | ... L57: ='IGP1 Structure'!L12 -> 0
...
