Workbook

Sheet IGP1 Structure
D2: LoGICA INTERGOVERNMENTAL PROFILE: STRUCTURE OF SUBNATIONAL GOVERNANCE INSTITUTIONS
D5: General Country Information | L5: Comments / Clarification
C6: C1 | D6: Basic Country Information | L6: Canada is a federal parliamentary democracy and constitutional monarchy.
C7: C1.1 | D7: Country Name | E7: Canada (CAN) | L7: Profile year 2026; population is the Statistics Canada estimate for July 1, 2026.
C8: C1.2 | D8: Information/Data for Year | E8: 2026 | L8: Population estimate: 41,798,407 (July 1, 2026).
C9: C1.3 | D9: Total National Population | E9: 41798407
C11: C.4 | D11: Main decentralization / subnational / intergovernmental legislation /policies | F11: Year Enacted
C12: C4.1 | D12: Constitution Act, 1867 | F12: 1867
C13: C4.2 | D13: Statute of Westminster, 1931 | F13: 1931
C14: C4.3 | D14: Constitution Act, 1982 / Canada Act 1982 | F14: 1982
C15: C4.4 | D15: Provincial and territorial municipal/local government legislation | F15: Various
D19: Level / tier / type | E19: Institutional level/tier/type (name) | F19: Number of units | G19: Complete territorial coverage? | H19: Uniform structure ? | I19: Subnational Governance Level / Tier / Type | J19: ="Population of "&CHAR(10)&"level / tier / type" -> Population of level / tier / type | L19: Comments / Clarification
O20: …
C21: C | D21: National level | E21: Federal government | F21: 1 | G21: Yes | H21: Yes | J21: 41798407 | L21: Government of Canada / federal government. | N21: 1 | O21: 1-Main Regional | P21: main level/tier/type of regional governance institutions | S21: =E21 -> Federal government | T21: =F21 -> 1 | U21: =$J$21/T21 -> 41798407
C22: S1 | D22: First level / tier / type | E22: Provinces and territories | F22: 13 | G22: Yes | H22: No | I22: 1-Main Regional | J22: 41798407 | L22: 10 provinces and 3 territories. Provinces have constitutionally entrenched authority; territorial powers are devolved by federal statute, but territorial governments exercise extensive self-government. | N22: 2 | O22: 2-Main Local | P22: main level/tier/type of local governance institutions | Q22: =IF(F22>2,"YES","NO") -> YES | R22: =LEFT(I22,1) -> 1 | S22: =E22 -> Provinces and territories | T22: =F22 -> 13 | U22: =IF(J22>0,J22/T22,$J$21/T22) -> 3215262.1
C23: S2 | D23: Second level / tier / type | E23: Upper-level and unitary local governments | F23: 2075 | G23: No | H23: No | I23: 2-Main Local | L23: Principal higher-level or unitary general-purpose local governments. Municipal government does not cover all Canadian territory; unorganized areas and Indigenous jurisdictions are excluded. Approximate harmonized count based on current provincial/territorial structures. | N23: 3 | O23: 3-Lower Local | P23: level/tier/type of lower-level local governance institutions | Q23: =IF(F23>2,"YES","NO") -> YES | R23: =LEFT(I23,1) -> 2 | S23: =E23 -> Upper-level and unitary local governments | T23: =F23 -> 2075 | U23: =IF(J23>0,J23/T23,$J$21/T23) -> 20143.811
C24: S3 | D24: Third level / tier / type | E24: Lower-level local governments | F24: 1511 | G24: No | H24: No | I24: 3-Lower Local | L24: Constituent lower-level municipalities in Ontario, Quebec and British Columbia. Approximate harmonized count: Quebec 1,109; Ontario 241; British Columbia 161. | N24: 4 | O24: 4-Urban | P24: level/tier/type of urban local governance institutions | Q24: =IF(F24>2,"YES","NO") -> YES | R24: =LEFT(I24,1) -> 3 | S24: =E24 -> Lower-level local governments | T24: =F24 -> 1511 | U24: =IF(J24>0,J24/T24,$J$21/T24) -> 27662.745
C25: S4 | D25: Fourth level / tier / type | N25: 5 | O25: 5-Other Regional | P25: other level/tier/type of regional governance institutions | Q25: =IF(F25>2,"YES","NO") -> NO | R25: =LEFT(I25,1) | S25: =E25 -> 0 | T25: =F25 -> 0 | U25: =IF(J25>0,J25/T25,$J$21/T25) -> #DIV/0!
N26: 6 | O26: 6-Other Local | P26: other level/tier/type of local governance institutions | Q26: =COUNTIF(Q22:Q25,"YES") -> 3
C28: LoGICA Intergovernmental Profile - Version 2023-12-28
D29: [Country Name] | E29: … | F29: …
D30: Afghanistan (AFG) | E30: Afghanistan | F30: AFG
D31: Albania (ALB) | E31: Albania | F31: ALB
D32: Algeria (DZA) | E32: Algeria | F32: DZA
D33: Angola (AGO) | E33: Angola | F33: AGO
D34: Argentina (ARG) | E34: Argentina | F34: ARG
D35: Armenia (ARM) | E35: Armenia | F35: ARM
D36: Australia (AUS) | E36: Australia | F36: AUS
D37: Austria (AUT) | E37: Austria | F37: AUT
D38: Azerbaijan (AZE) | E38: Azerbaijan | F38: AZE
D39: Bahamas (BHS) | E39: Bahamas | F39: BHS
D40: Bahrain (BHR) | E40: Bahrain | F40: BHR
... D203: Zimbabwe (ZWE) | E203: Zimbabwe | F203: ZWE
D204: =E7 -> Canada (CAN) | E204: =VLOOKUP(D204,$D$29:$F$203,2,FALSE) -> Canada | F204: =VLOOKUP(D204,$D$29:$F$203,3,FALSE) -> CAN

Sheet IGP2 Governance
D2: LoGICA INTERGOVERNMENTAL PROFILE: NATURE OF SUBNATIONAL GOVERNANCE INSTITUTIONS
D5: Government level / tier / type | E5: Provinces and territories | F5: Upper-level and unitary local governments | G5: Lower-level local governments | H5: ='IGP1 Structure'!$E$25 -> 0 | J5: ="Comments / Clarification: "&CHAR(10)&E5 -> Comments / Clarification: Provinces and territories | K5: ="Comments / Clarification: "&CHAR(10)&F5 -> Comments / Clarification: Upper-level and unitary local governments | L5: ="Comments / Clarification: "&CHAR(10)&G5 -> Comments / Clarification: Lower-level local governments | M5: ="Comments / Clarification: "&CHAR(10)&H5 -> Comments / Clarification: 0
C7: G1 | D7: Institutional characteristics, autonomy and authority
C8: G1.1A | D8: Are subnational entities at this level/tier/type de jure corporate bodies (institutional units)? | E8: Yes | F8: Yes | G8: Yes | H8: … | K8: Provinces and territories operate as autonomous subnational governments with elected legislatures, responsible executives, their own administrations, budgets, assets and extensive legislative/fiscal authority. Territorial authority has a statutory rather than constitutionally entrenched basis. | L8: General-purpose local governments are incorporated bodies with elected councils, their own administrations and budgets, and meaningful authority over assigned local functions, although their powers derive from provincial/territorial legislation. | M8: Lower-level municipalities in Ontario, Quebec and British Columbia are elected corporate bodies with their own administrations and budgets and exercise meaningful authority over assigned municipal functions. | O8: … | P8: Yes | Q8: No | R8: Partially/Mixed/Other
C9: G1.1B | D9: Do subnational entities at this level/tier/type engage in public sector functions? | E9: Yes | F9: Yes | G9: Yes | H9: … | O9: … | P9: Yes | Q9: No | R9: Partially/Mixed/Other
C10: G1.2 | D10: Do subnational entities at this level/tier/type meet the preconditions of de facto corporate bodies? | E10: Yes | F10: Yes | G10: Yes | H10: … | O10: … | P10: Yes | Q10: No | R10: Partially/Mixed/Other
C11: G1.3 | D11: Are subnational institutions de jure and de facto corporate bodies with extensive (de jure/de facto) functions? | E11: Yes | F11: Yes | G11: Yes | H11: … | O11: … | P11: Yes | Q11: No | R11: Partially/Mixed/Other
C13: G2 | D13: Political characteristics, autonomy and authority
C14: G2.1A | D14: Do subnational entities at this level/tier/type have their own (political/elected) leadership? | E14: Yes | F14: Yes | G14: Yes | H14: … | O14: … | P14: Yes | Q14: No | R14: Partially/Mixed/Other
C15: G2.1B | D15: Does the political leadership have a degree of autonomy and authoritative decision-making power? | E15: Yes | F15: Yes | G15: Yes | H15: … | O15: … | P15: Yes | Q15: No | R15: Partially/Mixed/Other
C16: G2.2A | D16: Is the subnational political leadership, at least in part, (directly or indirectly) elected? | E16: Yes | F16: Yes | G16: Yes | H16: … | O16: … | P16: Yes | Q16: No | R16: Partially/Mixed/Other
C17: G2.2B | D17: Do subnational entities have (de jure / de facto) autonomy and authoritative power over political decisions? | E17: Yes | F17: Yes | G17: Yes | H17: … | O17: … | P17: Yes | Q17: No | R17: Partially/Mixed/Other
C18: G2.3A | D18: Is the subnational political leadership (at least in part) directly elected? | E18: Yes | F18: Yes | G18: Yes | H18: … | O18: … | P18: Yes | Q18: No | R18: Partially/Mixed/Other
C19: G2.3B | D19: Do subnational entities have extensive autonomy and authoritative power over political decisions? | E19: Yes | F19: Yes | G19: Yes | H19: … | O19: … | P19: Yes | Q19: No | R19: Partially/Mixed/Other
C21: G3 | D21: Administrative characteristics, autonomy and authority
C22: G3.1 | D22: Do subnational entities at this level/tier/type have (employ) their own officers? | E22: Yes | F22: Yes | G22: Yes | H22: … | O22: … | P22: Yes | Q22: No | R22: Partially/Mixed/Other
C23: G3.2A | D23: Do subnational entities have, and authoritatively manage, their CEO and most/all of their own officers? | E23: Yes | F23: Yes | G23: Yes | H23: … | O23: … | P23: Yes | Q23: No | R23: Partially/Mixed/Other
C24: G3.2B | D24: Do subnational entities have, and authoritatively manage, their own staff? | E24: Yes | F24: Yes | G24: Yes | H24: … | O24: … | P24: Yes | Q24: No | R24: Partially/Mixed/Other
C25: G3.2C | D25: Do subnational entities have (de jure / de facto) autonomy and authoritative power over admin. decisions? | E25: Yes | F25: Yes | G25: Yes | H25: … | O25: … | P25: Yes | Q25: No | R25: Partially/Mixed/Other
C26: G3.3A | D26: Do subnational entities have, select, and authoritatively manage, their CEO and all of their own officers? | E26: Yes | F26: Yes | G26: Yes | H26: … | O26: … | P26: Yes | Q26: No | R26: Partially/Mixed/Other
C27: G3.3B | D27: Do subnational entities have, select, and authoritatively manage, their own staff? | E27: Yes | F27: Yes | G27: Yes | H27: … | O27: … | P27: Yes | Q27: No | R27: Partially/Mixed/Other
C28: G3.3C | D28: Do subnational entities have extensive autonomy and authoritative power over admin. decisions? | E28: Yes | F28: Yes | G28: Yes | H28: … | O28: … | P28: Yes | Q28: No | R28: Partially/Mixed/Other
C30: G4 | D30: Fiscal/budgetary characteristics, autonomy and authority
C31: G4.1A | D31: Do subnational entities at this level/tier/type own assets and raise funds in own name? | E31: Yes | F31: Yes | G31: Yes | H31: … | O31: … | P31: Yes | Q31: No | R31: Partially/Mixed/Other
C32: G4.1B | D32: Do subnational entities at this level/tier/type have their own budget? | E32: Yes | F32: Yes | G32: Yes | H32: … | O32: … | P32: Yes | Q32: No | R32: Partially/Mixed/Other
C33: G4.1C | D33: Do subnational entities at this level/tier/type prepare and adopt their own budgets? | E33: Yes | F33: Yes | G33: Yes | H33: … | O33: … | P33: Yes | Q33: No | R33: Partially/Mixed/Other
C34: G4.2A | D34: Do subnational entities hold and manage their own funds outside of the higher-level treasury? | E34: Yes | F34: Yes | G34: Yes | H34: … | O34: … | P34: Yes | Q34: No | R34: Partially/Mixed/Other
C35: G4.2B | D35: Do subnational entities have (de jure / de facto) autonomy and authoritative power over fiscal decisions? | E35: Yes | F35: Yes | G35: Yes | H35: … | O35: … | P35: Yes | Q35: No | R35: Partially/Mixed/Other
C36: G4.3 | D36: Do subnational entities have extensive autonomy and authoritative power over budget/fiscal decisions? | E36: Yes | F36: Yes | G36: Yes | H36: … | O36: … | P36: Yes | Q36: No | R36: Partially/Mixed/Other
D38: Governance of non-devolved subnational entities (empowered field administration?)
D39: Do subnational entities administratively form a hierarchical part of the higher-level government? | E39: N/A | F39: N/A | G39: N/A | H39: … | O39: … | P39: Yes | Q39: No | R39: Partially/Mixed/Other
D40: If G4.1 is Yes, do field administration departments or units form administrative units or sub-units? | E40: N/A | F40: N/A | G40: N/A | H40: … | O40: … | P40: Yes | Q40: No | R40: Partially/Mixed/Other
D41: If G4.2 is Yes, are field administration departments or units planned and managed as integrated units? | E41: N/A | F41: N/A | G41: N/A | H41: … | O41: … | P41: Yes | Q41: No | R41: Partially/Mixed/Other
D42: If G4.3 is Yes, are subnational field admin. departments or units organized sectorally or territorially (or mixed)? | E42: N/A | F42: N/A | G42: N/A | H42: … | O42: … | P42: Sectoral | Q42: Territorial | R42: Partially/Mixed/Other
D43: Do subnational entities budgetarily form a hierarchical part of the higher-level government? | E43: N/A | F43: N/A | G43: N/A | H43: … | O43: … | P43: Yes | Q43: No | R43: Partially/Mixed/Other
D44: If G4.5 is Yes, are the budgets of field depts./units included as identifiable sub-organizations or budget units? | E44: N/A | F44: N/A | G44: N/A | H44: … | O44: … | P44: Yes | Q44: No | R44: Partially/Mixed/Other
D45: If G4.6 is Yes, are field departments' or units' budgets organized sectorally or territorially (or mixed)? | E45: N/A | F45: N/A | G45: N/A | H45: … | O45: … | P45: Yes | Q45: No | R45: Partially/Mixed/Other
C47: G6 | D47: Nature of subnational governance institutions (level/tier/type)
C48: G6.1 | D48: Nature of subnational governance institutions (level/tier/type) | E48: Devolution (extensive) | F48: Devolution (extensive) | G48: Devolution (extensive) | H48: … | O48: … | P48: Devolution (extensive) | Q48: Devolution (limited) | R48: Hybrid institution | S48: Non-devolved institution | T48: None
C49: G6.2 | D49: Nature of subnational governance institutions (level/tier/type) - Detailed | E49: … | F49: … | G49: … | H49: … | O49: … | P49: 6 - Extensive devolution | Q49: 5 - Limited devolution | R49: 4 - Hybrid institution | S49: 3 - Horizontal deconcentration | T49: 2 - Vertical deconcentration | U49: 1 - Other institution | V49: 0 - None
...

Sheet IGP3 Functions
D2: LoGICA INTERGOVERNMENTAL PROFILE: DE FACTO FUNCTIONS AND RESPONSIBILITIES OF SUBNATIONAL GOVERNANCE INSTITUTIONS
C5: R1 | D5: Identifying the de facto responsibility for provision of frontline public services | F5: Primary responsibility | I5: Role of PCEBIs? | K5: Comments / Clarification
F6: HR | G6: Capital
D8: General public services (701); Public Order and Safety (703) | M8: … | N8: Note:
C9: R1.1 | D9: Civil administration (registration of births/marriages/deaths)* | F9: … | G9: XX | I9: … | M9: ='[1]IGP1 Structure'!C21 -> C | N9: ='[1]IGP1 Structure'!C21&" = "&'[1]IGP1 Structure'!E21 -> C = [National government]
C10: R1.3 | D10: Fire protection (7032) | F10: … | G10: XX | I10: … | M10: ='[1]IGP1 Structure'!C22 -> S1 | N10: ='[1]IGP1 Structure'!C22&" = "&'[1]IGP1 Structure'!E22 -> S1 = [First level / tier / type]
D11: Economic Affairs (704) | M11: ='[1]IGP1 Structure'!C23 -> S2 | N11: ='[1]IGP1 Structure'!C23&" = "&'[1]IGP1 Structure'!E23 -> S2 = [Second level / tier / type]
C12: R1.4 | D12: Agricultural extension / livestock services (70421*) | F12: … | G12: … | I12: … | M12: ='[1]IGP1 Structure'!C24 -> S3 | N12: ='[1]IGP1 Structure'!C24&" = "&'[1]IGP1 Structure'!E24 -> S3 = [Third level / tier /type]
C13: R1.8 | D13: Public transit (70456) | F13: … | G13: … | I13: … | M13: ='[1]IGP1 Structure'!C25 -> S4 | N13: ='[1]IGP1 Structure'!C25&" = "&'[1]IGP1 Structure'!E25 -> S4 = [Fourth level / tier / type]
D14: Environmental Protection (705) | M14: OR | N14: OR = Other Regional
C15: R1.11 | D15: Waste management (7051) | F15: … | G15: … | I15: … | M15: OL | N15: OL = Other Local
D16: Housing and Community Amenities (706)
C17: R2.1 | D17: Land use planning and zoning | F17: … | G17: XX | I17: …
C18: R2.4 | D18: Building and construction regulation; building permits | F18: … | G18: XX | I18: …
C19: R1.16 | D19: Water supply (7063) | F19: … | G19: … | I19: …
C20: R1.17 | D20: Street lighting (7064) | F20: … | G20: … | I20: …
D21: Health (707)
C22: R1.19 | D22: Public health and outpatient services (7072,7074) | F22: … | G22: … | I22: …
D23: Recreation, culture, and religion (708)
C24: R1.20 | D24: Recreation and sporting services (7081) – includes parks | F24: … | G24: … | I24: …
D25: Education (709)
C26: R1.23 | D26: Primary Education (70912) | F26: … | G26: … | I26: …

Sheet IGP Info
D2: LOCAL GOVERNANCE INSTITUTIONS COMPARATIVE ASSESSMENT (LoGICA) PROFILE: PROFILE COMPLETION INFORMATION
C5: Z1 | D5: Completion of LoGICA Assessment and Profile
C6: Z1.1 | D6: Name(s) of researcher(s) completing IGP | E6: Jamie Boex
C7: Z1.2 | D7: Name of peer reviewer(s) / country expert(s) (if any)
C8: Z1.3 | D8: Name of LPSA Reviewer
C10: Z4 | D10: LoGICA Assessment Abstract
C12: Z4.1 | D12: General Intergovernmental Context - One paragraph | E12: Canada is a federal parliamentary democracy and constitutional monarchy comprising the federal government, 10 provinces and three territories. The Constitution divides legislative authority between the federal Parliament and the provinces, with provinces exercising constitutionally protected authority over major areas including health, education, property and civil rights, natural resources, municipal institutions and matters of a local nature. The territories occupy a similar functional position but exercise powers devolved through federal statutes. Municipal governments are established and regulated principally under provincial or territorial law, while Indigenous governments form a distinct component of Canada's multilevel governance system.
D13: Canada is a federal parliamentary state comprising the federal government, 10 provinces and three territories, and a diverse system of municipal and Indigenous governments. The Constitution Act, 1867, divides legislative authority between the federal Parliament and provincial legislatures, with provinces possessing constitutionally protected legislative authority over major areas including health, education, property and civil rights, natural resources, local matters, and “municipal institutions in the province.” The three territories—Yukon, Northwest Territories and Nunavut—occupy a similar functional position in Canada’s multilevel governance system but have a different constitutional basis: their legislative powers are devolved by federal legislation rather than constitutionally inherent. Municipal governments, in turn, do not constitute a constitutionally autonomous order of government: their institutional form, powers and responsibilities are determined primarily by provincial or territorial legislation. Indigenous governments add an important and increasingly significant dimension to Canadian multilevel governance, including First Nations governments and governments established through modern treaties and self-government agreements.
C15: Z4.2 | D15: Subnational governance structure - One paragraph | E15: Canada's subnational governance structure consists of 10 provinces and three territories, below which local governance arrangements vary considerably. Most provinces and territories have a single principal municipal level, although municipalities may carry different legal designations. Ontario, Quebec and British Columbia have more complex arrangements involving area-wide and constituent municipal institutions: Ontario combines upper-tier counties and regional municipalities with lower-tier municipalities and single-tier municipalities; Quebec combines regional county municipalities (MRCs) with constituent local municipalities and MRC-equivalent municipalities; and British Columbia combines municipalities with federative regional districts. Municipal institutions do not cover all Canadian territory, as sparsely populated or unorganized areas may be administered provincially/territorially or through special-purpose bodies, while Indigenous jurisdictions have distinct arrangements.
D16: Canada’s subnational governance structure consists of 10 provinces and three territories, below which local governance arrangements vary considerably across the country. Provinces and territories constitute the principal regional level of government, while each establishes its own system of municipal and local governance. In most provinces and territories, municipalities of different types—such as cities, towns, villages, rural municipalities, counties, municipal districts and specialized municipalities—operate at a single local governance level, despite differences in size, designation and functional responsibilities. Ontario, Quebec and British Columbia have more complex arrangements involving both area-wide and constituent municipal institutions. Ontario combines upper-tier counties and regional municipalities with constituent lower-tier municipalities, while substantial parts of the province are governed by single-tier municipalities that perform both sets of functions. Quebec similarly combines regional county municipalities (municipalités régionales de comté, or MRCs) with constituent local municipalities, alongside municipalities exercising MRC-equivalent responsibilities. British Columbia’s municipalities participate in regional districts, which provide regional, subregional and local services through a more federative and flexible model rather than a conventional hierarchical two-tier system. Indigenous governments form an additional and legally distinct component of Canada’s subnational governance landscape and should be considered separately from the provincial and territorial municipal systems.
C18: Z4.3 | D18: Nature of subnational governance institutions - One paragraph | E18: Provincial governments are constitutionally entrenched, fully devolved governments with elected legislatures, responsible executives, their own administrations, extensive legislative authority and substantial own-source taxing and borrowing powers. Territorial governments have elected legislatures, responsible executives and extensive administrative and fiscal autonomy, although their legal authority is devolved by federal statute rather than constitutionally entrenched. Most municipal governments are incorporated institutional units with elected councils, their own administrations, budgets, assets and meaningful discretion over assigned functions. The Governor General and provincial Lieutenant Governors are the formal constitutional heads of the federal and provincial executives respectively, but exercise their functions under responsible government and do not constitute routine federal control over provincial authority.
D19: Canada’s provincial governments are fully devolved, constitutionally entrenched governments, with directly elected legislatures, their own executive administrations, extensive legislative and regulatory authority, and substantial own-source taxing and borrowing powers. Their authority is not delegated by the federal government, and the federal government cannot ordinarily abolish provinces or unilaterally assume matters assigned to them by the Constitution. The territories exercise many comparable governmental functions and have elected legislatures, responsible governments, their own public administrations and substantial expenditure responsibilities, but their authority is legally devolved through federal statutes and therefore has a different constitutional foundation. Provincial governments establish and can restructure their municipal systems, while the practical degree of local autonomy varies across provinces. Section 92(8) of the Constitution expressly assigns authority over “Municipal Institutions in the Province” to provincial legislatures. Across all provinces and territories, Canadian municipalities are fully devolved institutions, as incorporated institutional units with elected councils, their own administrations and employees, budgets, assets, revenues and meaningful discretion over assigned local functions. Indigenous governments have a distinct legal and institutional basis and should be identified separately rather than subsumed under provincial municipal systems; this is especially important in the northern territories, where Indigenous and public local-government institutions sometimes overlap or interact.
C21: Z4.4 | D21: Assignment of functions and responsibilities - One paragraph (Optional) | E21: Canada has a highly decentralized assignment of public functions. The federal government is responsible for matters including defence, foreign affairs, interprovincial and international trade, currency and banking, criminal law and other national functions, while provinces have major responsibilities for health care, education, social services, natural resources, administration of justice, municipal institutions and matters of a local nature. Municipal assignments vary by province but commonly include local roads, water and wastewater, solid waste, land-use planning and development control, fire protection, parks and recreation, transit and other community services. In two-tier systems these responsibilities are divided between area-wide and constituent municipalities according to provincial legislation and economies of scale.
D22: Canada has a highly decentralized assignment of public functions. The federal government is responsible for matters including defense, foreign affairs, international and interprovincial trade, currency and banking, criminal law and other national functions, while provinces exercise major responsibilities for health care, education, social services, natural resources, property and civil rights, administration of justice, and the establishment of municipal institutions. Municipal functional assignments vary considerably by province but commonly encompass local roads and streets, water and wastewater, solid-waste management, land-use planning and development control, fire protection, parks and recreation, public transit, local economic development and other community services; larger municipalities frequently perform additional social, housing, policing and transportation functions. In provinces with two-tier systems these responsibilities are divided between upper- and lower-tier institutions: regional functions and services benefiting from scale are generally placed at the upper level, while more localized services remain with constituent municipalities. Thus, while Canada has a common constitutional architecture, the actual assignment of local functions is substantially province-specific.
C24: Z4.10 | D24: References and Resources - List | E24: Forum of Federations (2024), The Forum of Federations Handbook on Local Government in Federal Systems — https://www.forumfed.org/document/the-forum-of-federations-handbook-on-local-government-in-federal-systems/
D25: Government of Canada, Department of Justice. Constitution Acts, 1867 to 1982. | E25: Commonwealth Local Government Forum (CLGF), The Local Government System in Canada — https://www.clgf.org.uk/regions/clgf-americas/canada/
D26: Forum of Federations. 2002. Federalism and Decentralization in Canada. | E26: OECD/UCLG (2022), World Observatory on Subnational Government Finance and Investment (SNG-WOFI): Canada Country Profile — https://www.sng-wofi.org/country_profiles/canada.html
D27: Commonwealth Local Government Forum (CLGF). The Local Government System in Canada. | E27: UN Women, Women in Local Government / SDG Indicator 5.5.1b — https://localgov.unwomen.org/
D28: OECD/UCLG. World Observatory on Subnational Government Finance and Investment (SNG-WOFI): Canada Country Profile. | E28: Government of Canada, Constitution Acts, 1867 to 1982 — https://laws-lois.justice.gc.ca/eng/Const/
D29: UN Women. Women in Local Government – Canada country profile. | E29: Statistics Canada, Population estimates, July 1, 2026 — https://www150.statcan.gc.ca/n1/daily-quotidien/260923/dq260923a-eng.htm

Sheet IGP Country Notes
C2: ="IGP Country Notes for "&'IGP1 Structure'!E7&" ,"&'IGP1 Structure'!E8 -> IGP Country Notes for Canada (CAN) ,2026
C3: ="These Country Notes for this LoGICA Intergovernmental Profile (IGP) describe the structure and nature of local governance institutions for "&'IGP1 Structure'!E204&" for the year "&'IGP1 Structure'!E8&"." -> These Country Notes for this LoGICA Intergovernmental Profile (IGP) describe the structure and nature of local governance institutions for Canada for the year 2026.
C4: =IF(COUNTIF('IGP3 Functions'!$F$9:$G$26,"…")<10,"The IGP also assessed the de facto functional assignments for "&'IGP1 Structure'!E204&".","The IGP did not assess the de facto functional assignments for "&'IGP1 Structure'!E204&".") -> The IGP did not assess the de facto functional assignments for Canada.
C5: ="This IGP was prepared by "&'IGP Info'!E6&"." -> This IGP was prepared by Jamie Boex.
B6: =IF('IGP1 Structure'!D9="","XX",">") -> > | C6: =IF(B6=">","The total population of "&'IGP1 Structure'!E204&" is "&FIXED('IGP1 Structure'!E9,0,FALSE)&" residents.","The total population of "&'IGP1 Structure'!E204&" is not reported in the profile.") -> The total population of Canada is 41,798,407 residents.
B7: =IF('IGP1 Structure'!L6&'IGP1 Structure'!L7&'IGP1 Structure'!L8&'IGP1 Structure'!L9="","XX",">") -> > | C7: =IF(B7=">",'IGP1 Structure'!L6&'IGP1 Structure'!L7&'IGP1 Structure'!L8&'IGP1 Structure'!L9,"") -> Canada is a federal parliamentary democracy and constitutional monarchy.Profile year 2026; population is the Statistics Canada estimate for July 1, 2026.Population estimate: 41,798,407 (July 1, 2026).
C9: Constitutional, Legislative, and Policy Context for Subnational Governance
C10: ="The main legal/policy context for decentralization, subnational governance and intergovernmental relations in "&'IGP1 Structure'!E204&" is provided by:" -> The main legal/policy context for decentralization, subnational governance and intergovernmental relations in Canada is provided by:
B11: =IF('IGP1 Structure'!D12="","XX",">") -> > | C11: =IF(B11=">",'IGP1 Structure'!D12&" ("&'IGP1 Structure'!F12&")","") -> Constitution Act, 1867 (1867)
B12: =IF('IGP1 Structure'!D13="","XX",">") -> > | C12: =IF(B12=">",'IGP1 Structure'!D13&" ("&'IGP1 Structure'!F13&")","") -> Statute of Westminster, 1931 (1931)
B13: =IF('IGP1 Structure'!D14="","XX",">") -> > | C13: =IF(B13=">",'IGP1 Structure'!D14&" ("&'IGP1 Structure'!F14&")","") -> Constitution Act, 1982 / Canada Act 1982 (1982)
B14: =IF('IGP1 Structure'!D15="","XX",">") -> > | C14: =IF(B14=">",'IGP1 Structure'!D15&" ("&'IGP1 Structure'!F15&")","") -> Provincial and territorial municipal/local government legislation (Various)
B15: =IF('IGP1 Structure'!L11&'IGP1 Structure'!L12&'IGP1 Structure'!L13&'IGP1 Structure'!L14&'IGP1 Structure'!L15="","XX",">") -> XX | C15: =IF(B15=">",'IGP1 Structure'!L11&'IGP1 Structure'!L12&'IGP1 Structure'!L13&'IGP1 Structure'!L14&'IGP1 Structure'!L15,"")
C17: [Insert Table. Structure and nature of subnational governance institutions]
C19: Structure of Subnational Governance Institutions
C20: ="The Intergovernmental Profile considers "&'IGP1 Structure'!Q26&" different levels, tiers or types of subnational governance institutions, including:" -> The Intergovernmental Profile considers 3 different levels, tiers or types of subnational governance institutions, including:
B21: =IF('IGP1 Structure'!Q22="YES",">","XX") -> > | C21: =IF('IGP1 Structure'!Q22="YES",'IGP1 Structure'!S22&", which are a "&VLOOKUP('IGP1 Structure'!$R22,'IGP1 Structure'!$N$21:$P$26,3,FALSE)&". "&'IGP1 Structure'!L21,"") -> Provinces and territories, which are a main level/tier/type of regional governance institutions. Government of Canada / federal government.
B22: =IF('IGP1 Structure'!Q23="YES",">","XX") -> > | C22: =IF('IGP1 Structure'!Q23="YES",'IGP1 Structure'!S23&", which are a "&VLOOKUP('IGP1 Structure'!$R23,'IGP1 Structure'!$N$21:$P$26,3,FALSE)&". "&'IGP1 Structure'!L22,"") -> Upper-level and unitary local governments, which are a main level/tier/type of local governance institutions. 10 provinces and 3 territories. Provinces have constitutionally entrenched authority; territorial powers are devolved by federal statute, but territorial governments exercise extensive self-government.
B23: =IF('IGP1 Structure'!Q24="YES",">","XX") -> > | C23: =IF('IGP1 Structure'!Q24="YES",'IGP1 Structure'!S24&", which are a "&VLOOKUP('IGP1 Structure'!$R24,'IGP1 Structure'!$N$21:$P$26,3,FALSE)&". "&'IGP1 Structure'!L23,"") -> Lower-level local governments, which are a level/tier/type of lower-level local governance institutions. Principal higher-level or unitary general-purpose local governments. Municipal government does not cover all Canadian territory; unorganized areas and Indigenous jurisdictions are excluded. Approximate harmonized count based on current provincial/territorial structures.
B24: =IF('IGP1 Structure'!Q25="YES",">","XX") -> XX | C24: =IF('IGP1 Structure'!Q25="YES",'IGP1 Structure'!S25&", which are a "&VLOOKUP('IGP1 Structure'!$R25,'IGP1 Structure'!$N$21:$P$26,3,FALSE)&". "&'IGP1 Structure'!L24,"")
B25: =IF('IGP1 Structure'!L21&'IGP1 Structure'!L22&'IGP1 Structure'!L23&'IGP1 Structure'!L24&'IGP1 Structure'!L25="","XX",">") -> > | C25: =IF(B25=">",'IGP1 Structure'!L21&""&'IGP1 Structure'!L22&""&'IGP1 Structure'!L23&""&'IGP1 Structure'!L24&""&'IGP1 Structure'!L25,"") -> Government of Canada / federal government.10 provinces and 3 territories. Provinces have constitutionally entrenched authority; territorial powers are devolved by federal statute, but territorial governments exercise extensive self-government.Principal higher-level or unitary general-purpose local governments. Municipal government does not cover all Canadian territory; unorganized areas and Indigenous jurisdictions are excluded. Approximate harmonized count based on current provincial/territorial structures.Constituent lower-level municipalities in Ontario, Quebec and British Columbia. Approximate harmonized count: Quebec 1,109; Ontario 241; British Columbia 161.
C27: Nature of Subnational Governance Institutions: Overview
C28: In order to meet the definition of a devolved subnational government, subnational governance institutions must have certain institutional, political, administrative and fiscal characteristics, and have sufficient autonomy and authority to be able to respond the needs and priorities of their constituents.
B29: =B21 -> > | C29: =IF(B29=">","Based on the LoGICA typology, "&'IGP1 Structure'!$E$22&" are classified as "&'IGP2 Governance'!$E$73,"") -> Based on the LoGICA typology, Provinces and territories are classified as devolved subnational governance institutions with extensive powers and function.
B30: =B22 -> > | C30: =IF(B30=">","Based on the LoGICA typology, "&'IGP1 Structure'!$E$23&" are classified as "&'IGP2 Governance'!$F$73,"") -> Based on the LoGICA typology, Upper-level and unitary local governments are classified as devolved subnational governance institutions with extensive powers and function.
B31: =B23 -> > | C31: =IF(B31=">","Based on the LoGICA typology, "&'IGP1 Structure'!$E$24&" are classified as "&'IGP2 Governance'!$G$73,"") -> Based on the LoGICA typology, Lower-level local governments are classified as devolved subnational governance institutions with extensive powers and function.
B32: =B24 -> XX | C32: =IF(B32=">","Based on the LoGICA typology, "&'IGP1 Structure'!$E$25&" are classified as "&'IGP2 Governance'!$H$73,"")
B34: =IF('IGP1 Structure'!$Q$22="YES",">","XX") -> > | C34: ="Nature of Subnational Governance Institutions: "&'IGP2 Governance'!E5 -> Nature of Subnational Governance Institutions: Provinces and territories
B35: =IF('IGP1 Structure'!$Q$22="YES",">","XX") -> > | C35: =IF($B35=">",'IGP2 Governance'!$J$66&'IGP2 Governance'!$J$71,"") -> Provinces and territories meet all the institutional/functional conditions of devolved subnational governments with extensive powers/functions.
B36: =IF('IGP1 Structure'!$Q$22="YES",">","XX") -> > | C36: =IF($B36=">",'IGP2 Governance'!$J$67&'IGP2 Governance'!$J$72,"") -> Provinces and territories meet all the political conditions of devolved subnational governments with extensive powers/functions.
B37: =IF('IGP1 Structure'!$Q$22="YES",">","XX") -> > | C37: =IF($B37=">",'IGP2 Governance'!$J$68&'IGP2 Governance'!$J$73,"") -> Provinces and territories meet all the administrative conditions of devolved subnational governments with extensive powers/functions.
B38: =IF('IGP1 Structure'!$Q$22="YES",">","XX") -> > | C38: =IF($B38=">",'IGP2 Governance'!$J$69&'IGP2 Governance'!$J$74,"") -> Provinces and territories meet all the fiscal/budgetary conditions of devolved subnational governments with extensive powers/functions.
B39: =IF('IGP1 Structure'!$Q$22="YES",">","XX") -> > | C39: =IF(B39=">",$C$29,"") -> Based on the LoGICA typology, Provinces and territories are classified as devolved subnational governance institutions with extensive powers and function.
B41: =IF('IGP1 Structure'!$Q$23="YES",">","XX") -> > | C41: ="Nature of Subnational Governance Institutions: "&'IGP2 Governance'!F5 -> Nature of Subnational Governance Institutions: Upper-level and unitary local governments
B42: =IF('IGP1 Structure'!$Q$23="YES",">","XX") -> > | C42: =IF($B42=">",'IGP2 Governance'!$K$66&'IGP2 Governance'!$K$71,"") -> Upper-level and unitary local governments meet all the institutional/functional conditions of devolved subnational governments with extensive powers/functions.Provinces and territories operate as autonomous subnational governments with elected legislatures, responsible executives, their own administrations, budgets, assets and extensive legislative/fiscal authority. Territorial authority has a statutory rather than constitutionally entrenched basis.
B43: =IF('IGP1 Structure'!$Q$23="YES",">","XX") -> > | C43: =IF($B43=">",'IGP2 Governance'!$K$67&'IGP2 Governance'!$K$72,"") -> Upper-level and unitary local governments meet all the political conditions of devolved subnational governments with extensive powers/functions.
B44: =IF('IGP1 Structure'!$Q$23="YES",">","XX") -> > | C44: =IF($B44=">",'IGP2 Governance'!$K$68&'IGP2 Governance'!$K$73,"") -> Upper-level and unitary local governments meet all the administrative conditions of devolved subnational governments with extensive powers/functions.
B45: =IF('IGP1 Structure'!$Q$23="YES",">","XX") -> > | C45: =IF($B45=">",'IGP2 Governance'!$K$69&'IGP2 Governance'!$K$74,"") -> Upper-level and unitary local governments meet all the fiscal/budgetary conditions of devolved subnational governments with extensive powers/functions.
B46: =IF('IGP1 Structure'!$Q$23="YES",">","XX") -> > | C46: =IF(B46=">",$C$30,"") -> Based on the LoGICA typology, Upper-level and unitary local governments are classified as devolved subnational governance institutions with extensive powers and function.
B48: =IF('IGP1 Structure'!$Q$24="YES",">","XX") -> > | C48: ="Nature of Subnational Governance Institutions: "&'IGP2 Governance'!G5 -> Nature of Subnational Governance Institutions: Lower-level local governments
...

Sheet IGP Extract
C2: ="Table. Structure and nature of subnational governance institutions: "&'IGP1 Structure'!E7 -> Table. Structure and nature of subnational governance institutions: Canada (CAN)
E4: Subnational jurisdictions | I4: Subnational autonomy and authority (0-3)
C5: Code | D5: Country | E5: Name | F5: Number | G5: Avg. Pop. | I5: Institutional | J5: Political | K5: Admin. | L5: Fiscal | N5: Subnat. Institutional Type
D7: Regional governance institutions
C8: =_xlfn.IFNA(VLOOKUP('IGP1 Structure'!$E$7,'IGP1 Structure'!$D$30:$F$203,3,FALSE),"-") -> CAN | D8: =_xlfn.IFNA(VLOOKUP('IGP1 Structure'!$E$7,'IGP1 Structure'!$D$30:$F$203,2,FALSE),"-") -> Canada | E8: =_xlfn.IFNA(VLOOKUP($T8,'IGP1 Structure'!$R$22:$U$25,2,FALSE),"") -> Provinces and territories | F8: =_xlfn.IFNA(VLOOKUP($T8,'IGP1 Structure'!$R$22:$U$25,3,FALSE),"") -> 13 | G8: =_xlfn.IFNA(VLOOKUP($T8,'IGP1 Structure'!$R$22:$U$25,4,FALSE),"") -> 3215262.1 | I8: =IFERROR(HLOOKUP($E8,'IGP2 Governance'!$E$53:$H$70,14,FALSE),"") -> 3 | J8: =IFERROR(HLOOKUP($E8,'IGP2 Governance'!$E$53:$H$70,15,FALSE),"") -> 3 | K8: =IFERROR(HLOOKUP($E8,'IGP2 Governance'!$E$53:$H$70,16,FALSE),"") -> 3 | L8: =IFERROR(HLOOKUP($E8,'IGP2 Governance'!$E$53:$H$70,17,FALSE),"") -> 3 | N8: =IFERROR(HLOOKUP($E8,'IGP2 Governance'!$E$53:$H$71,19,FALSE),"") -> Devolution (extensive) | T8: 1
D10: Local governance institutions
C11: =C8 -> CAN | D11: =D8 -> Canada | E11: =_xlfn.IFNA(VLOOKUP($T11,'IGP1 Structure'!$R$22:$U$25,2,FALSE),"") -> Upper-level and unitary local governments | F11: =_xlfn.IFNA(VLOOKUP($T11,'IGP1 Structure'!$R$22:$U$25,3,FALSE),"") -> 2075 | G11: =_xlfn.IFNA(VLOOKUP($T11,'IGP1 Structure'!$R$22:$U$25,4,FALSE),"") -> 20143.811 | I11: =IFERROR(HLOOKUP($E11,'IGP2 Governance'!$E$53:$H$70,14,FALSE),"") -> 3 | J11: =IFERROR(HLOOKUP($E11,'IGP2 Governance'!$E$53:$H$70,15,FALSE),"") -> 3 | K11: =IFERROR(HLOOKUP($E11,'IGP2 Governance'!$E$53:$H$70,16,FALSE),"") -> 3 | L11: =IFERROR(HLOOKUP($E11,'IGP2 Governance'!$E$53:$H$70,17,FALSE),"") -> 3 | N11: =IFERROR(HLOOKUP($E11,'IGP2 Governance'!$E$53:$H$71,19,FALSE),"") -> Devolution (extensive) | T11: 2
D13: Lower-local governance institutions
C14: =C11 -> CAN | D14: =D11 -> Canada | E14: =_xlfn.IFNA(VLOOKUP($T14,'IGP1 Structure'!$R$22:$U$25,2,FALSE),"") -> Lower-level local governments | F14: =_xlfn.IFNA(VLOOKUP($T14,'IGP1 Structure'!$R$22:$U$25,3,FALSE),"") -> 1511 | G14: =_xlfn.IFNA(VLOOKUP($T14,'IGP1 Structure'!$R$22:$U$25,4,FALSE),"") -> 27662.745 | I14: =IFERROR(HLOOKUP($E14,'IGP2 Governance'!$E$53:$H$70,14,FALSE),"") -> 3 | J14: =IFERROR(HLOOKUP($E14,'IGP2 Governance'!$E$53:$H$70,15,FALSE),"") -> 3 | K14: =IFERROR(HLOOKUP($E14,'IGP2 Governance'!$E$53:$H$70,16,FALSE),"") -> 3 | L14: =IFERROR(HLOOKUP($E14,'IGP2 Governance'!$E$53:$H$70,17,FALSE),"") -> 3 | N14: =IFERROR(HLOOKUP($E14,'IGP2 Governance'!$E$53:$H$71,19,FALSE),"") -> Devolution (extensive) | T14: 3
D16: Urban local governance institutions
C17: =C14 -> CAN | D17: =D14 -> Canada | E17: =_xlfn.IFNA(VLOOKUP($T17,'IGP1 Structure'!$R$22:$U$25,2,FALSE),"") | F17: =_xlfn.IFNA(VLOOKUP($T17,'IGP1 Structure'!$R$22:$U$25,3,FALSE),"") | G17: =_xlfn.IFNA(VLOOKUP($T17,'IGP1 Structure'!$R$22:$U$25,4,FALSE),"") | I17: =IFERROR(HLOOKUP($E17,'IGP2 Governance'!$E$53:$H$70,14,FALSE),"") | J17: =IFERROR(HLOOKUP($E17,'IGP2 Governance'!$E$53:$H$70,15,FALSE),"") | K17: =IFERROR(HLOOKUP($E17,'IGP2 Governance'!$E$53:$H$70,16,FALSE),"") | L17: =IFERROR(HLOOKUP($E17,'IGP2 Governance'!$E$53:$H$70,17,FALSE),"") | N17: =IFERROR(HLOOKUP($E17,'IGP2 Governance'!$E$53:$H$71,19,FALSE),"") | T17: 4
E21: =IF('IGP1 Structure'!$Q22="YES",'IGP1 Structure'!S22,"") -> Provinces and territories | F21: =IF('IGP1 Structure'!$Q22="YES",'IGP1 Structure'!T22,"") -> 13 | G21: =IF('IGP1 Structure'!$Q22="YES",'IGP1 Structure'!U22,"") -> 3215262.1 | I21: =IFERROR(HLOOKUP($E21,'IGP2 Governance'!$E$53:$H$70,14,FALSE),"") -> 3 | J21: =IFERROR(HLOOKUP($E21,'IGP2 Governance'!$E$53:$H$70,15,FALSE),"") -> 3 | K21: =IFERROR(HLOOKUP($E21,'IGP2 Governance'!$E$53:$H$70,16,FALSE),"") -> 3 | L21: =IFERROR(HLOOKUP($E21,'IGP2 Governance'!$E$53:$H$70,17,FALSE),"") -> 3 | N21: =IFERROR(HLOOKUP($E21,'IGP2 Governance'!$E$53:$H$71,19,FALSE),"") -> Devolution (extensive)
E22: =IF('IGP1 Structure'!$Q23="YES",'IGP1 Structure'!S23,"") -> Upper-level and unitary local governments | F22: =IF('IGP1 Structure'!$Q23="YES",'IGP1 Structure'!T23,"") -> 2075 | G22: =IF('IGP1 Structure'!$Q23="YES",'IGP1 Structure'!U23,"") -> 20143.811 | I22: =IFERROR(HLOOKUP($E22,'IGP2 Governance'!$E$53:$H$70,14,FALSE),"") -> 3 | J22: =IFERROR(HLOOKUP($E22,'IGP2 Governance'!$E$53:$H$70,15,FALSE),"") -> 3 | K22: =IFERROR(HLOOKUP($E22,'IGP2 Governance'!$E$53:$H$70,16,FALSE),"") -> 3 | L22: =IFERROR(HLOOKUP($E22,'IGP2 Governance'!$E$53:$H$70,17,FALSE),"") -> 3 | N22: =IFERROR(HLOOKUP($E22,'IGP2 Governance'!$E$53:$H$71,19,FALSE),"") -> Devolution (extensive)
E23: =IF('IGP1 Structure'!$Q24="YES",'IGP1 Structure'!S24,"") -> Lower-level local governments | F23: =IF('IGP1 Structure'!$Q24="YES",'IGP1 Structure'!T24,"") -> 1511 | G23: =IF('IGP1 Structure'!$Q24="YES",'IGP1 Structure'!U24,"") -> 27662.745 | I23: =IFERROR(HLOOKUP($E23,'IGP2 Governance'!$E$53:$H$70,14,FALSE),"") -> 3 | J23: =IFERROR(HLOOKUP($E23,'IGP2 Governance'!$E$53:$H$70,15,FALSE),"") -> 3 | K23: =IFERROR(HLOOKUP($E23,'IGP2 Governance'!$E$53:$H$70,16,FALSE),"") -> 3 | L23: =IFERROR(HLOOKUP($E23,'IGP2 Governance'!$E$53:$H$70,17,FALSE),"") -> 3 | N23: =IFERROR(HLOOKUP($E23,'IGP2 Governance'!$E$53:$H$71,19,FALSE),"") -> Devolution (extensive)
E24: =IF('IGP1 Structure'!$Q25="YES",'IGP1 Structure'!S25,"") | F24: =IF('IGP1 Structure'!$Q25="YES",'IGP1 Structure'!T25,"") | G24: =IF('IGP1 Structure'!$Q25="YES",'IGP1 Structure'!U25,"") | I24: =IFERROR(HLOOKUP($E24,'IGP2 Governance'!$E$53:$H$70,14,FALSE),"") | J24: =IFERROR(HLOOKUP($E24,'IGP2 Governance'!$E$53:$H$70,15,FALSE),"") | K24: =IFERROR(HLOOKUP($E24,'IGP2 Governance'!$E$53:$H$70,16,FALSE),"") | L24: =IFERROR(HLOOKUP($E24,'IGP2 Governance'!$E$53:$H$70,17,FALSE),"") | N24: =IFERROR(HLOOKUP($E24,'IGP2 Governance'!$E$53:$H$71,19,FALSE),"")
E27: ="Table. Functions of subnational govenance institutions: "&'IGP1 Structure'!E7 -> Table. Functions of subnational govenance institutions: Canada (CAN)
F29: Civil Administration | G29: Fire protection | H29: Agr. extension | I29: Public transit | J29: Waste management | K29: Land use planning & zoning | L29: Building permits | M29: Water supply | N29: Street lighting | O29: Public health (outpatient) | P29: Recreation & sports | Q29: Primary education | R29: Total
E30: ='IGP1 Structure'!E21 -> Federal government | F30: =COUNTIF('IGP3 Functions'!$F$9:$G$9,$T30) -> 0 | G30: =COUNTIF('IGP3 Functions'!$F$10:$G$10,$T30) -> 0 | H30: =COUNTIF('IGP3 Functions'!$F$12:$G$12,$T30) -> 0 | I30: =COUNTIF('IGP3 Functions'!$F$13:$G$13,$T30) -> 0 | J30: =COUNTIF('IGP3 Functions'!$F$15:$G$15,$T30) -> 0 | K30: =COUNTIF('IGP3 Functions'!$F$17:$G$17,$T30) -> 0 | L30: =COUNTIF('IGP3 Functions'!$F$18:$G$18,$T30) -> 0 | M30: =COUNTIF('IGP3 Functions'!$F$19:$G$19,$T30) -> 0 | N30: =COUNTIF('IGP3 Functions'!$F$20:$G$20,$T30) -> 0 | O30: =COUNTIF('IGP3 Functions'!$F$22:$G$22,$T30) -> 0 | P30: =COUNTIF('IGP3 Functions'!$F$24:$G$24,$T30) -> 0 | Q30: =COUNTIF('IGP3 Functions'!$F$26:$G$26,$T30) -> 0 | R30: =SUM(F30:Q30) -> 0 | T30: C | U30: C
E31: =IF('IGP1 Structure'!Q22="YES",'IGP1 Structure'!E22,"…") -> Provinces and territories | F31: =COUNTIF('IGP3 Functions'!$F$9:$G$9,$T31) -> 0 | G31: =COUNTIF('IGP3 Functions'!$F$10:$G$10,$T31) -> 0 | H31: =COUNTIF('IGP3 Functions'!$F$12:$G$12,$T31) -> 0 | I31: =COUNTIF('IGP3 Functions'!$F$13:$G$13,$T31) -> 0 | J31: =COUNTIF('IGP3 Functions'!$F$15:$G$15,$T31) -> 0 | K31: =COUNTIF('IGP3 Functions'!$F$17:$G$17,$T31) -> 0 | L31: =COUNTIF('IGP3 Functions'!$F$18:$G$18,$T31) -> 0 | M31: =COUNTIF('IGP3 Functions'!$F$19:$G$19,$T31) -> 0 | N31: =COUNTIF('IGP3 Functions'!$F$20:$G$20,$T31) -> 0 | O31: =COUNTIF('IGP3 Functions'!$F$22:$G$22,$T31) -> 0 | P31: =COUNTIF('IGP3 Functions'!$F$24:$G$24,$T31) -> 0 | Q31: =COUNTIF('IGP3 Functions'!$F$26:$G$26,$T31) -> 0 | R31: =SUM(F31:Q31) -> 0 | T31: S1 | U31: =IF('IGP1 Structure'!R22="1","R",IF('IGP1 Structure'!R22="2","L",IF('IGP1 Structure'!R22="3","L",IF('IGP1 Structure'!R22="4","L",IF('IGP1 Structure'!R22="5","R",IF('IGP1 Structure'!R22="6","L","C")))))) -> R
E32: =IF('IGP1 Structure'!Q23="YES",'IGP1 Structure'!E23,"…") -> Upper-level and unitary local governments | F32: =COUNTIF('IGP3 Functions'!$F$9:$G$9,$T32) -> 0 | G32: =COUNTIF('IGP3 Functions'!$F$10:$G$10,$T32) -> 0 | H32: =COUNTIF('IGP3 Functions'!$F$12:$G$12,$T32) -> 0 | I32: =COUNTIF('IGP3 Functions'!$F$13:$G$13,$T32) -> 0 | J32: =COUNTIF('IGP3 Functions'!$F$15:$G$15,$T32) -> 0 | K32: =COUNTIF('IGP3 Functions'!$F$17:$G$17,$T32) -> 0 | L32: =COUNTIF('IGP3 Functions'!$F$18:$G$18,$T32) -> 0 | M32: =COUNTIF('IGP3 Functions'!$F$19:$G$19,$T32) -> 0 | N32: =COUNTIF('IGP3 Functions'!$F$20:$G$20,$T32) -> 0 | O32: =COUNTIF('IGP3 Functions'!$F$22:$G$22,$T32) -> 0 | P32: =COUNTIF('IGP3 Functions'!$F$24:$G$24,$T32) -> 0 | Q32: =COUNTIF('IGP3 Functions'!$F$26:$G$26,$T32) -> 0 | R32: =SUM(F32:Q32) -> 0 | T32: S2 | U32: =IF('IGP1 Structure'!R23="1","R",IF('IGP1 Structure'!R23="2","L",IF('IGP1 Structure'!R23="3","L",IF('IGP1 Structure'!R23="4","L",IF('IGP1 Structure'!R23="5","R",IF('IGP1 Structure'!R23="6","L","C")))))) -> L
E33: =IF('IGP1 Structure'!Q24="YES",'IGP1 Structure'!E24,"…") -> Lower-level local governments | F33: =COUNTIF('IGP3 Functions'!$F$9:$G$9,$T33) -> 0 | G33: =COUNTIF('IGP3 Functions'!$F$10:$G$10,$T33) -> 0 | H33: =COUNTIF('IGP3 Functions'!$F$12:$G$12,$T33) -> 0 | I33: =COUNTIF('IGP3 Functions'!$F$13:$G$13,$T33) -> 0 | J33: =COUNTIF('IGP3 Functions'!$F$15:$G$15,$T33) -> 0 | K33: =COUNTIF('IGP3 Functions'!$F$17:$G$17,$T33) -> 0 | L33: =COUNTIF('IGP3 Functions'!$F$18:$G$18,$T33) -> 0 | M33: =COUNTIF('IGP3 Functions'!$F$19:$G$19,$T33) -> 0 | N33: =COUNTIF('IGP3 Functions'!$F$20:$G$20,$T33) -> 0 | O33: =COUNTIF('IGP3 Functions'!$F$22:$G$22,$T33) -> 0 | P33: =COUNTIF('IGP3 Functions'!$F$24:$G$24,$T33) -> 0 | Q33: =COUNTIF('IGP3 Functions'!$F$26:$G$26,$T33) -> 0 | R33: =SUM(F33:Q33) -> 0 | T33: S3 | U33: =IF('IGP1 Structure'!R24="1","R",IF('IGP1 Structure'!R24="2","L",IF('IGP1 Structure'!R24="3","L",IF('IGP1 Structure'!R24="4","L",IF('IGP1 Structure'!R24="5","R",IF('IGP1 Structure'!R24="6","L","C")))))) -> L
E34: =IF('IGP1 Structure'!Q25="YES",'IGP1 Structure'!E25,"…") -> … | F34: =COUNTIF('IGP3 Functions'!$F$9:$G$9,$T34) -> 0 | G34: =COUNTIF('IGP3 Functions'!$F$10:$G$10,$T34) -> 0 | H34: =COUNTIF('IGP3 Functions'!$F$12:$G$12,$T34) -> 0 | I34: =COUNTIF('IGP3 Functions'!$F$13:$G$13,$T34) -> 0 | J34: =COUNTIF('IGP3 Functions'!$F$15:$G$15,$T34) -> 0 | K34: =COUNTIF('IGP3 Functions'!$F$17:$G$17,$T34) -> 0 | L34: =COUNTIF('IGP3 Functions'!$F$18:$G$18,$T34) -> 0 | M34: =COUNTIF('IGP3 Functions'!$F$19:$G$19,$T34) -> 0 | N34: =COUNTIF('IGP3 Functions'!$F$20:$G$20,$T34) -> 0 | O34: =COUNTIF('IGP3 Functions'!$F$22:$G$22,$T34) -> 0 | P34: =COUNTIF('IGP3 Functions'!$F$24:$G$24,$T34) -> 0 | Q34: =COUNTIF('IGP3 Functions'!$F$26:$G$26,$T34) -> 0 | R34: =SUM(F34:Q34) -> 0 | T34: S4 | U34: =IF('IGP1 Structure'!R25="1","R",IF('IGP1 Structure'!R25="2","L",IF('IGP1 Structure'!R25="3","L",IF('IGP1 Structure'!R25="4","L",IF('IGP1 Structure'!R25="5","R",IF('IGP1 Structure'!R25="6","L","C")))))) -> C
E35: Other regional-level institutions | F35: =COUNTIF('IGP3 Functions'!$F$9:$G$9,$T35) -> 0 | G35: =COUNTIF('IGP3 Functions'!$F$10:$G$10,$T35) -> 0 | H35: =COUNTIF('IGP3 Functions'!$F$12:$G$12,$T35) -> 0 | I35: =COUNTIF('IGP3 Functions'!$F$13:$G$13,$T35) -> 0 | J35: =COUNTIF('IGP3 Functions'!$F$15:$G$15,$T35) -> 0 | K35: =COUNTIF('IGP3 Functions'!$F$17:$G$17,$T35) -> 0 | L35: =COUNTIF('IGP3 Functions'!$F$18:$G$18,$T35) -> 0 | M35: =COUNTIF('IGP3 Functions'!$F$19:$G$19,$T35) -> 0 | N35: =COUNTIF('IGP3 Functions'!$F$20:$G$20,$T35) -> 0 | O35: =COUNTIF('IGP3 Functions'!$F$22:$G$22,$T35) -> 0 | P35: =COUNTIF('IGP3 Functions'!$F$24:$G$24,$T35) -> 0 | Q35: =COUNTIF('IGP3 Functions'!$F$26:$G$26,$T35) -> 0 | R35: =SUM(F35:Q35) -> 0 | T35: OR | U35: R
E36: Other local-level institutions | F36: =COUNTIF('IGP3 Functions'!$F$9:$G$9,$T36) -> 0 | G36: =COUNTIF('IGP3 Functions'!$F$10:$G$10,$T36) -> 0 | H36: =COUNTIF('IGP3 Functions'!$F$12:$G$12,$T36) -> 0 | I36: =COUNTIF('IGP3 Functions'!$F$13:$G$13,$T36) -> 0 | J36: =COUNTIF('IGP3 Functions'!$F$15:$G$15,$T36) -> 0 | K36: =COUNTIF('IGP3 Functions'!$F$17:$G$17,$T36) -> 0 | L36: =COUNTIF('IGP3 Functions'!$F$18:$G$18,$T36) -> 0 | M36: =COUNTIF('IGP3 Functions'!$F$19:$G$19,$T36) -> 0 | N36: =COUNTIF('IGP3 Functions'!$F$20:$G$20,$T36) -> 0 | O36: =COUNTIF('IGP3 Functions'!$F$22:$G$22,$T36) -> 0 | P36: =COUNTIF('IGP3 Functions'!$F$24:$G$24,$T36) -> 0 | Q36: =COUNTIF('IGP3 Functions'!$F$26:$G$26,$T36) -> 0 | R36: =SUM(F36:Q36) -> 0 | T36: OL | U36: L
E37: Central | F37: =SUMIF($U$30:$U$36,$U37,F$30:F$36) -> 0 | G37: =SUMIF($U$30:$U$36,$U37,G$30:G$36) -> 0 | H37: =SUMIF($U$30:$U$36,$U37,H$30:H$36) -> 0 | I37: =SUMIF($U$30:$U$36,$U37,I$30:I$36) -> 0 | J37: =SUMIF($U$30:$U$36,$U37,J$30:J$36) -> 0 | K37: =SUMIF($U$30:$U$36,$U37,K$30:K$36) -> 0 | L37: =SUMIF($U$30:$U$36,$U37,L$30:L$36) -> 0 | M37: =SUMIF($U$30:$U$36,$U37,M$30:M$36) -> 0 | ... Q37: =SUMIF($U$30:$U$36,$U37,Q$30:Q$36) -> 0 | R37: =SUM(F37:Q37) -> 0 | U37: C
E38: Regional | F38: =SUMIF($U$30:$U$36,$U38,F$30:F$36) -> 0 | G38: =SUMIF($U$30:$U$36,$U38,G$30:G$36) -> 0 | H38: =SUMIF($U$30:$U$36,$U38,H$30:H$36) -> 0 | I38: =SUMIF($U$30:$U$36,$U38,I$30:I$36) -> 0 | J38: =SUMIF($U$30:$U$36,$U38,J$30:J$36) -> 0 | K38: =SUMIF($U$30:$U$36,$U38,K$30:K$36) -> 0 | L38: =SUMIF($U$30:$U$36,$U38,L$30:L$36) -> 0 | M38: =SUMIF($U$30:$U$36,$U38,M$30:M$36) -> 0 | ... Q38: =SUMIF($U$30:$U$36,$U38,Q$30:Q$36) -> 0 | R38: =SUM(F38:Q38) -> 0 | U38: R
E39: Local | F39: =SUMIF($U$30:$U$36,$U39,F$30:F$36) -> 0 | G39: =SUMIF($U$30:$U$36,$U39,G$30:G$36) -> 0 | H39: =SUMIF($U$30:$U$36,$U39,H$30:H$36) -> 0 | I39: =SUMIF($U$30:$U$36,$U39,I$30:I$36) -> 0 | J39: =SUMIF($U$30:$U$36,$U39,J$30:J$36) -> 0 | K39: =SUMIF($U$30:$U$36,$U39,K$30:K$36) -> 0 | L39: =SUMIF($U$30:$U$36,$U39,L$30:L$36) -> 0 | M39: =SUMIF($U$30:$U$36,$U39,M$30:M$36) -> 0 | ... Q39: =SUMIF($U$30:$U$36,$U39,Q$30:Q$36) -> 0 | R39: =SUM(F39:Q39) -> 0 | U39: L
E40: Total | F40: =SUM(F37:F39) -> 0 | G40: =SUM(G37:G39) -> 0 | H40: =SUM(H37:H39) -> 0 | I40: =SUM(I37:I39) -> 0 | J40: =SUM(J37:J39) -> 0 | K40: =SUM(K37:K39) -> 0 | L40: =SUM(L37:L39) -> 0 | M40: =SUM(M37:M39) -> 0 | ... Q40: =SUM(Q37:Q39) -> 0 | R40: =SUM(F40:Q40) -> 0
A46: ='IGP1 Structure'!A1 -> 0 | B46: ='IGP1 Structure'!B1 -> 0 | C46: ='IGP1 Structure'!C1 -> 0 | D46: ='IGP1 Structure'!D1 -> 0 | E46: ='IGP1 Structure'!E1 -> 0 | F46: ='IGP1 Structure'!F1 -> 0 | G46: ='IGP1 Structure'!G1 -> 0 | H46: ='IGP1 Structure'!H1 -> 0 | ... L46: ='IGP1 Structure'!L1 -> 0
A47: ='IGP1 Structure'!A2 -> 0 | B47: ='IGP1 Structure'!B2 -> 0 | C47: ='IGP1 Structure'!C2 -> 0 | D47: ='IGP1 Structure'!D2 -> LoGICA INTERGOVERNMENTAL PROFILE: STRUCTURE OF SUBNATIONAL GOVERNANCE INSTITUTIONS | E47: ='IGP1 Structure'!E2 -> 0 | F47: ='IGP1 Structure'!F2 -> 0 | G47: ='IGP1 Structure'!G2 -> 0 | H47: ='IGP1 Structure'!H2 -> 0 | ... L47: ='IGP1 Structure'!L2 -> 0
A48: ='IGP1 Structure'!A3 -> 0 | B48: ='IGP1 Structure'!B3 -> 0 | C48: ='IGP1 Structure'!C3 -> 0 | D48: ='IGP1 Structure'!D3 -> 0 | E48: ='IGP1 Structure'!E3 -> 0 | F48: ='IGP1 Structure'!F3 -> 0 | G48: ='IGP1 Structure'!G3 -> 0 | H48: ='IGP1 Structure'!H3 -> 0 | ... L48: ='IGP1 Structure'!L3 -> 0
A49: ='IGP1 Structure'!A4 -> 0 | B49: ='IGP1 Structure'!B4 -> 0 | C49: ='IGP1 Structure'!C4 -> 0 | D49: ='IGP1 Structure'!D4 -> 0 | E49: ='IGP1 Structure'!E4 -> 0 | F49: ='IGP1 Structure'!F4 -> 0 | G49: ='IGP1 Structure'!G4 -> 0 | H49: ='IGP1 Structure'!H4 -> 0 | ... L49: ='IGP1 Structure'!L4 -> 0
A50: ='IGP1 Structure'!A5 -> 0 | B50: ='IGP1 Structure'!B5 -> 0 | C50: ='IGP1 Structure'!C5 -> 0 | D50: ='IGP1 Structure'!D5 -> General Country Information | E50: ='IGP1 Structure'!E5 -> 0 | F50: ='IGP1 Structure'!F5 -> 0 | G50: ='IGP1 Structure'!G5 -> 0 | H50: ='IGP1 Structure'!H5 -> 0 | ... L50: ='IGP1 Structure'!L5 -> Comments / Clarification
A51: ='IGP1 Structure'!A6 -> 0 | B51: ='IGP1 Structure'!B6 -> 0 | C51: ='IGP1 Structure'!C6 -> C1 | D51: ='IGP1 Structure'!D6 -> Basic Country Information | E51: ='IGP1 Structure'!E6 -> 0 | F51: ='IGP1 Structure'!F6 -> 0 | G51: ='IGP1 Structure'!G6 -> 0 | H51: ='IGP1 Structure'!H6 -> 0 | ... L51: ='IGP1 Structure'!L6 -> Canada is a federal parliamentary democracy and constitutional monarchy.
A52: ='IGP1 Structure'!A7 -> 0 | B52: ='IGP1 Structure'!B7 -> 0 | C52: ='IGP1 Structure'!C7 -> C1.1 | D52: ='IGP1 Structure'!D7 -> Country Name | E52: ='IGP1 Structure'!E7 -> Canada (CAN) | F52: ='IGP1 Structure'!F7 -> 0 | G52: ='IGP1 Structure'!G7 -> 0 | H52: ='IGP1 Structure'!H7 -> 0 | ... L52: ='IGP1 Structure'!L7 -> Profile year 2026; population is the Statistics Canada estimate for July 1, 2026.
A53: ='IGP1 Structure'!A8 -> 0 | B53: ='IGP1 Structure'!B8 -> 0 | C53: ='IGP1 Structure'!C8 -> C1.2 | D53: ='IGP1 Structure'!D8 -> Information/Data for Year | E53: ='IGP1 Structure'!E8 -> 2026 | F53: ='IGP1 Structure'!F8 -> 0 | G53: ='IGP1 Structure'!G8 -> 0 | H53: ='IGP1 Structure'!H8 -> 0 | ... L53: ='IGP1 Structure'!L8 -> Population estimate: 41,798,407 (July 1, 2026).
A54: ='IGP1 Structure'!A9 -> 0 | B54: ='IGP1 Structure'!B9 -> 0 | C54: ='IGP1 Structure'!C9 -> C1.3 | D54: ='IGP1 Structure'!D9 -> Total National Population | E54: ='IGP1 Structure'!E9 -> 41798407 | F54: ='IGP1 Structure'!F9 -> 0 | G54: ='IGP1 Structure'!G9 -> 0 | H54: ='IGP1 Structure'!H9 -> 0 | ... L54: ='IGP1 Structure'!L9 -> 0
A55: ='IGP1 Structure'!A10 -> 0 | B55: ='IGP1 Structure'!B10 -> 0 | C55: ='IGP1 Structure'!C10 -> 0 | D55: ='IGP1 Structure'!D10 -> 0 | E55: ='IGP1 Structure'!E10 -> 0 | F55: ='IGP1 Structure'!F10 -> 0 | G55: ='IGP1 Structure'!G10 -> 0 | H55: ='IGP1 Structure'!H10 -> 0 | ... L55: ='IGP1 Structure'!L10 -> 0
A56: ='IGP1 Structure'!A11 -> 0 | B56: ='IGP1 Structure'!B11 -> 0 | C56: ='IGP1 Structure'!C11 -> C.4 | D56: ='IGP1 Structure'!D11 -> Main decentralization / subnational / intergovernmental legislation /policies | E56: ='IGP1 Structure'!E11 -> 0 | F56: ='IGP1 Structure'!F11 -> Year Enacted | G56: ='IGP1 Structure'!G11 -> 0 | H56: ='IGP1 Structure'!H11 -> 0 | ... L56: ='IGP1 Structure'!L11 -> 0
A57: ='IGP1 Structure'!A12 -> 0 | B57: ='IGP1 Structure'!B12 -> 0 | C57: ='IGP1 Structure'!C12 -> C4.1 | D57: ='IGP1 Structure'!D12 -> Constitution Act, 1867 | E57: ='IGP1 Structure'!E12 -> 0 | F57: ='IGP1 Structure'!F12 -> 1867 | G57: ='IGP1 Structure'!G12 -> 0 | H57: ='IGP1 Structure'!H12 -> 0 | ... L57: ='IGP1 Structure'!L12 -> 0
...
